Felt | Verdi |
AlreadyApplied | True |
Aperture | 2.0 |
ApertureValue | 2.0 |
ApproximateFocusDistance | 4294967295 |
Artist | Arnt Baatstrand |
BitsPerSample | 8 |
BlueHue | +24 |
BlueSaturation | +9 |
Brightness | +24 |
By-line | Arnt Baatstrand |
CameraProfile | Adobe Standard |
ChromaticAberrationB | 0 |
ChromaticAberrationR | 0 |
CircleOfConfusion | 0.019 mm |
Clarity | +11 |
ColorComponents | 3 |
ColorNoiseReduction | 25 |
ColorNoiseReductionDetail | 40 |
ColorTemperature | 3150 |
Contrast | +39 |
ConvertToGrayscale | False |
CreateDate (1) | 2014:01:01 20:51:55.00+01:00 |
CreateDate | 2014:01:01 20:51:55 |
Creator | Arnt Baatstrand |
CropAngle | 0 |
CropBottom | 0.996622 |
CropConstrainToWarp | 1 |
CropLeft | 0.09009 |
CropRight | 1 |
CropTop | 0.097973 |
CustomRendered | Normal |
DateTimeOriginal (1) | 2014:01:01 20:51:55.00+01:00 |
DateTimeOriginal | 2014:01:01 20:51:55 |
Defringe | 0 |
DOF | inf (188.80 m - inf) |
ExifImageHeight | 3106 |
ExifImageWidth | 4717 |
Exposure | +1.20 |
ExposureCompensation | 0 |
ExposureMode | Manual |
ExposureProgram | Manual |
ExposureTime | 10 |
FillLight | 6 |
Firmware | 2.0.3 |
Flash | Off, Did not fire |
FlashCompensation | 0 |
FlashFired | False |
FlashFunction | False |
FlashMode | Off |
FlashRedEyeMode | False |
FlashReturn | No return detection |
FNumber | 2.0 |
FocalLength | 85.0 mm |
FocalLength35efl | 85.0 mm (35 mm equivalent: 133.5 mm) |
FOV | 15.4 deg |
GrainAmount | 0 |
GreenHue | +18 |
GreenSaturation | +3 |
HasCrop | True |
HasSettings | True |
HighlightRecovery | 13 |
HueAdjustmentAqua | -1 |
HueAdjustmentBlue | -1 |
HueAdjustmentGreen | -11 |
HueAdjustmentMagenta | 0 |
HueAdjustmentOrange | -6 |
HueAdjustmentPurple | 0 |
HueAdjustmentRed | +3 |
HueAdjustmentYellow | +11 |
HyperfocalDistance | 188.80 m |
ImageHeight | 3106 |
ImageNumber | 0 |
ImageSize | 4717x3106 |
ImageWidth | 4717 |
ISO | 500 |
Lens | EF85mm f/1.8 USM |
LensID (1) | 155 |
LensID | Canon EF 85mm f/1.8 USM |
LensInfo | 85mm f/? |
LensManualDistortionAmount | 0 |
LensModel | EF85mm f/1.8 USM |
LensProfileEnable | 0 |
LensProfileSetup | LensDefaults |
LightValue | -3.6 |
LuminanceAdjustmentAqua | 0 |
LuminanceAdjustmentBlue | 0 |
LuminanceAdjustmentGreen | 0 |
LuminanceAdjustmentMagenta | 0 |
LuminanceAdjustmentOrange | 0 |
LuminanceAdjustmentPurple | 0 |
LuminanceAdjustmentRed | 0 |
LuminanceAdjustmentYellow | 0 |
LuminanceNoiseReductionContrast | 41 |
LuminanceNoiseReductionDetail | 29 |
LuminanceSmoothing | 47 |
Make | Canon |
MaxApertureValue | 1.8 |
Megapixels | 14.7 |
MeteringMode | Multi-segment |
Model | Canon EOS 7D |
ModifyDate (1) | 2014:01:11 18:42:19+01:00 |
ModifyDate | 2014:01:11 18:42:19 |
ParametricDarks | -31 |
ParametricHighlights | -72 |
ParametricHighlightSplit | 75 |
ParametricLights | -12 |
ParametricMidtoneSplit | 50 |
ParametricShadows | -25 |
ParametricShadowSplit | 25 |
PerspectiveHorizontal | 0 |
PerspectiveRotate | 0.0 |
PerspectiveScale | 100 |
PerspectiveVertical | 0 |
PostCropVignetteAmount | 0 |
ProcessVersion | 5.7 |
ProfileDescription | sRGB IEC61966-2.1 |
Rating | 0 |
RawFileName | IMG_2182.CR2 |
RecommendedExposureIndex | 500 |
RedHue | 0 |
RedSaturation | +3 |
Saturation | 0 |
SaturationAdjustmentAqua | 0 |
SaturationAdjustmentBlue | 0 |
SaturationAdjustmentGreen | 0 |
SaturationAdjustmentMagenta | 0 |
SaturationAdjustmentOrange | 0 |
SaturationAdjustmentPurple | 0 |
SaturationAdjustmentRed | 0 |
SaturationAdjustmentYellow | 0 |
ScaleFactor35efl | 1.6 |
SceneCaptureType | Standard |
SensitivityType (1) | 2 |
SensitivityType | Recommended Exposure Index |
SerialNumber | 3181219072 |
Shadows | 8 |
ShadowTint | +3 |
SharpenDetail | 25 |
SharpenEdgeMasking | 87 |
SharpenRadius | +1.0 |
Sharpness | 57 |
ShutterSpeed | 10 |
ShutterSpeedValue | 10 |
SplitToningBalance | 0 |
SplitToningHighlightHue | 0 |
SplitToningHighlightSaturation | 0 |
SplitToningShadowHue | 0 |
SplitToningShadowSaturation | 0 |
SubjectDistance | 4294967295 m |
Tint | +3 |
ToneCurve | 0, 0, 32, 22, 64, 56, 128, 128, 192, 196, 255, 255 |
ToneCurveName | Medium Contrast |
Version | 6.3 |
Vibrance | 0 |
VignetteAmount | 0 |
WhiteBalance (2) | Custom |
WhiteBalance | Auto |