Felt | Verdi |
2011-10-29T09:35:19+02:00 File Katten_HDR2.psd saved
2011-10-29T09:38:40+02:00 File Katten_HDR2.psd saved
2011-10-29T09:39:16+02:00 File Brannstasjon_Kastellet013.jpg closed
2011-10-29T09:39:18+02:00 File Brannstasjon_Kastellet011.jpg closed
2011-10-29T13:11:42+02:00 File Katten_HDR2.psd saved
2011-10-29T13:16:15+02:00 File Katten_HDR2.psd saved
2011-10-29T13:19:25+02:00 File Katten_HDR2.jpg saved
AlreadyApplied | True |
Aperture | 10.0 |
ApertureValue | 10.0 |
ApproximateFocusDistance | 4294967295 |
Artist | Haakon Selje |
BitsPerSample | 8 |
BlueHue | 0 |
BlueSaturation | 0 |
Brightness | 0 |
Brightness/Contrast 1 Layer
Brush Tool
By-line | Haakon Selje |
CameraProfile | Adobe Standard |
ChromaticAberrationB | 0 |
ChromaticAberrationR | 0 |
CircleOfConfusion | 0.019 mm |
Clarity | +10 |
Color Balance 1 Layer
ColorComponents | 3 |
ColorMode | RGB |
ColorNoiseReduction | 25 |
ColorNoiseReductionDetail | 50 |
ColorSpace | Uncalibrated |
ColorTemperature | 5850 |
Contrast | 0 |
ConvertToGrayscale | False |
Copyright | Haakon Selje |
CopyrightNotice | Haakon Selje |
CreateDate (1) | 2011:10:29 08:41:30.06 |
CreateDate | 2011:10:29 08:41:30 |
Creator | Haakon Selje |
CreatorTool | Adobe Photoshop CS5.1 Macintosh |
CustomRendered | Normal |
DateCreated (1) | 2011:10:29 |
DateCreated | 2011:10:29 08:41:30.006 |
DateTimeOriginal | 2011:10:29 08:41:30 |
Defringe | 0 |
Delete Layer
DOF | inf (1.04 m - inf) |
Duplicate Layer
ExifImageHeight | 3154 |
ExifImageWidth | 4744 |
Exposure | 0.00 |
ExposureCompensation | 0 |
ExposureMode | Manual |
ExposureProgram | Manual |
ExposureTime | 0.4 |
FillLight | 0 |
Firmware | 1.0.9 |
Flash | Off, Did not fire |
FlashCompensation | 0 |
FNumber | 10.0 |
FocalLength | 14.0 mm |
FocalLength35efl | 14.0 mm (35 mm equivalent: 22.2 mm) |
Format | image/jpeg |
FOV | 78.0 deg |
GrainAmount | 0 |
GreenHue | 0 |
GreenSaturation | 0 |
HasCrop | False |
HasSettings | True |
HighlightRecovery | 0 |
Hue/Saturation 1 Layer
HueAdjustmentAqua | 0 |
HueAdjustmentBlue | 0 |
HueAdjustmentGreen | 0 |
HueAdjustmentMagenta | 0 |
HueAdjustmentOrange | 0 |
HueAdjustmentPurple | 0 |
HueAdjustmentRed | 0 |
HueAdjustmentYellow | 0 |
HyperfocalDistance | 1.04 m |
ICCProfileName | Adobe RGB (1998) |
ImageHeight | 3154 |
ImageNumber | 0 |
ImageSize | 4744x3154 |
ImageWidth | 4744 |
ISO | 100 |
Lens | EF14mm f/2.8L USM |
LensID (1) | 150 |
LensID | Canon EF 14mm f/2.8L USM |
LensInfo | 14mm f/? |
LensManualDistortionAmount | 0 |
LensProfileEnable | 0 |
LensProfileSetup | LensDefaults |
LightValue | 8.0 |
LuminanceAdjustmentAqua | 0 |
LuminanceAdjustmentBlue | 0 |
LuminanceAdjustmentGreen | 0 |
LuminanceAdjustmentMagenta | 0 |
LuminanceAdjustmentOrange | 0 |
LuminanceAdjustmentPurple | 0 |
LuminanceAdjustmentRed | 0 |
LuminanceAdjustmentYellow | 0 |
LuminanceSmoothing | 0 |
Make | Canon |
MaxApertureValue | 2.8 |
Megapixels | 15.0 |
MeteringMode | Center-weighted average |
Model | Canon EOS 500D |
Modify Brightness/Contrast Layer
Modify Color Balance Layer
Modify Hue/Saturation Layer
Modify Photo Filter Layer
Modify Posterize Layer
ModifyDate (1) | 2011:10:29 13:19:25+02:00 |
ModifyDate | 2011:10:29 13:19:25 |
Orientation | Horizontal (normal) |
ParametricDarks | 0 |
ParametricHighlights | 0 |
ParametricHighlightSplit | 75 |
ParametricLights | 0 |
ParametricMidtoneSplit | 50 |
ParametricShadows | 0 |
ParametricShadowSplit | 25 |
PerspectiveHorizontal | 0 |
PerspectiveRotate | 0.0 |
PerspectiveScale | 100 |
PerspectiveVertical | 0 |
Photo Filter 1 Layer
PostCropVignetteAmount | 0 |
Posterize 1 Layer
ProcessVersion | 5.7 |
ProfileDescription | Adobe RGB (1998) |
Rating | 0 |
RawFileName | _MG_1572.CR2 |
RedHue | 0 |
RedSaturation | 0 |
Rights | Haakon Selje |
Saturation | +9 |
SaturationAdjustmentAqua | 0 |
SaturationAdjustmentBlue | 0 |
SaturationAdjustmentGreen | 0 |
SaturationAdjustmentMagenta | 0 |
SaturationAdjustmentOrange | 0 |
SaturationAdjustmentPurple | 0 |
SaturationAdjustmentRed | 0 |
SaturationAdjustmentYellow | 0 |
ScaleFactor35efl | 1.6 |
SceneCaptureType | Standard |
SerialNumber | 530116575 |
Shadows | 0 |
ShadowTint | 0 |
SharpenDetail | 25 |
SharpenEdgeMasking | 0 |
SharpenRadius | +1.0 |
Sharpness | 25 |
ShutterSpeed | 0.4 |
ShutterSpeedValue | 0.4 |
Software | Adobe Photoshop CS5.1 Macintosh |
SplitToningBalance | 0 |
SplitToningHighlightHue | 0 |
SplitToningHighlightSaturation | 0 |
SplitToningShadowHue | 0 |
SplitToningShadowSaturation | 0 |
SubjectDistance | 4294967295 m |
Tint | -9 |
ToneCurve | 0, 0, 255, 255 |
ToneCurveName | Linear |
Undo
URL_List | |
Version | 6.4.1 |
Vibrance | +8 |
VignetteAmount | 0 |
WhiteBalance (1) | As Shot |
WhiteBalance | Auto |