Felt | Verdi |
AlreadyApplied | True |
Aperture | 3.5 |
ApertureValue | 3.5 |
Artist | Gina |
BitsPerSample | 8 |
BlueHue | 0 |
BlueSaturation | 0 |
Brightness | +50 |
By-line | Gina |
CameraProfile | Adobe Standard |
ChromaticAberrationB | 0 |
ChromaticAberrationR | 0 |
CircleOfConfusion | 0.019 mm |
Clarity | +28 |
ColorComponents | 1 |
ColorMode | Grayscale |
ColorNoiseReduction | 25 |
ColorNoiseReductionDetail | 50 |
ColorSpace | Uncalibrated |
ColorTemperature | 4200 |
Contrast | +47 |
ConvertToGrayscale | True |
Copyright | © Gina Næss Korslund |
CopyrightFlag | True |
CopyrightNotice | © Gina Næss Korslund |
CreateDate (1) | 2011:09:27 11:17:57.55 |
CreateDate | 2011:09:27 11:17:57 |
Creator | Gina, Gina Næss Korslund |
CreatorCountry | NORWAY |
CreatorPostalCode | 8310 |
CreatorRegion | Kabelvåg |
CreatorTool | Adobe Photoshop CS5 Macintosh |
CreatorWorkEmail | gina.korslund@gmail.com |
CreatorWorkTelephone | +4791758647 |
CreatorWorkURL | gina.korslund.tumblr.com |
CropAngle | 0 |
CropBottom | 0.919022 |
CropConstrainToWarp | 1 |
CropLeft | 0.104141 |
CropRight | 1 |
CropTop | 0 |
CustomRendered | Normal |
DateCreated (1) | 2011:09:27 |
DateCreated | 2011:09:27 11:17:57.055 |
DateTimeOriginal | 2011:09:27 11:17:57 |
Defringe | 0 |
ExifImageHeight | 3827 |
ExifImageWidth | 2617 |
Exposure | +0.45 |
ExposureCompensation | 0 |
ExposureMode | Auto |
ExposureProgram | Shutter speed priority AE |
ExposureTime | 1/250 |
FillLight | 0 |
Firmware | 1.0.9 |
Flash | Off, Did not fire |
FlashCompensation | 0 |
FNumber | 3.5 |
FocalLength | 105.0 mm |
FocalLength35efl | 105.0 mm (35 mm equivalent: 169.6 mm) |
Format | image/jpeg |
FOV | 12.1 deg |
GrainAmount | 0 |
GrayMixerAqua | -1 |
GrayMixerBlue | +14 |
GrayMixerGreen | -19 |
GrayMixerMagenta | +4 |
GrayMixerOrange | -21 |
GrayMixerPurple | +18 |
GrayMixerRed | -12 |
GrayMixerYellow | -36 |
GreenHue | 0 |
GreenSaturation | 0 |
HasCrop | True |
HasSettings | True |
HierarchicalSubject | Natur, Steder|Kabelvåg, Steder|Lofoten, Steder|Norge, Oppgaver|Makro |
HighlightRecovery | 21 |
HyperfocalDistance | 169.36 m |
ICCProfileName | Dot Gain 15% |
ImageHeight | 3827 |
ImageNumber | 0 |
ImageSize | 2617x3827 |
ImageWidth | 2617 |
ISO | 400 |
Keywords | Kabelvåg, Lofoten, Makro, Natur, Norge |
Lens | 105mm |
LensID (1) | 169 |
LensID | Unknown (169) 105mm |
LensInfo | 105mm f/? |
LensManualDistortionAmount | 0 |
LensModel | 105mm |
LensProfileEnable | 0 |
LensProfileSetup | LensDefaults |
LightValue | 9.6 |
LuminanceSmoothing | 0 |
Make | Canon |
Marked | True |
MaxApertureValue | 2.8 |
Megapixels | 10.0 |
MeteringMode | Multi-segment |
Model | Canon EOS 450D |
ModifyDate (1) | 2011:09:27 16:47:56+02:00 |
ModifyDate | 2011:09:27 16:47:56 |
Orientation | Horizontal (normal) |
OwnerName | Gina |
ParametricDarks | -15 |
ParametricHighlights | +17 |
ParametricHighlightSplit | 75 |
ParametricLights | +23 |
ParametricMidtoneSplit | 50 |
ParametricShadows | -13 |
ParametricShadowSplit | 25 |
PerspectiveHorizontal | 0 |
PerspectiveRotate | 0.0 |
PerspectiveScale | 100 |
PerspectiveVertical | 0 |
PostCropVignetteAmount | 0 |
ProcessVersion | 5.7 |
ProfileDescription | Dot Gain 15% |
Rating | 5 |
RawFileName | Makro_20110927_056.CR2 |
RedHue | 0 |
RedSaturation | 0 |
Rights | © Gina Næss Korslund |
ScaleFactor35efl | 1.6 |
SceneCaptureType | Standard |
SerialNumber | 1080398495 |
Shadows | 20 |
ShadowTint | 0 |
SharpenDetail | 25 |
SharpenEdgeMasking | 0 |
SharpenRadius | +1.0 |
Sharpness | 54 |
ShutterSpeed | 1/250 |
ShutterSpeedValue | 1/250 |
Software | Adobe Photoshop CS5 Macintosh |
SplitToningBalance | 0 |
SplitToningHighlightHue | 0 |
SplitToningHighlightSaturation | 0 |
SplitToningShadowHue | 0 |
SplitToningShadowSaturation | 0 |
Subject | Kabelvåg, Lofoten, Makro, Natur, Norge |
Tint | +45 |
ToneCurve | 0, 0, 32, 22, 64, 56, 128, 128, 192, 196, 255, 255 |
ToneCurveName | Medium Contrast |
URL_List | |
Version | 6.4.1 |
VignetteAmount | 0 |
WhiteBalance (1) | As Shot |
WhiteBalance | Auto |