Felt | Verdi |
AlreadyApplied | True |
Aperture | 11.0 |
ApertureValue | 11.0 |
Artist | Svenn Fjeldheim |
BitsPerSample | 8 |
BlueHue | 0 |
BlueSaturation | 0 |
Brightness | +50 |
By-line | Svenn Fjeldheim |
CameraProfile | Adobe Standard |
ChromaticAberrationB | 0 |
ChromaticAberrationR | 0 |
CircleOfConfusion | 0.019 mm |
Clarity | 0 |
ColorComponents | 3 |
ColorMode | RGB |
ColorNoiseReduction | 25 |
ColorNoiseReductionDetail | 50 |
ColorSpace | sRGB |
ColorTemperature | 6598 |
Contrast | +25 |
ConvertToGrayscale | False |
CreateDate (1) | 2011:04:05 17:25:41.00+02:00 |
CreateDate | 2011:04:05 17:25:41 |
Creator | Svenn Fjeldheim |
CropAngle | 0 |
CropBottom | 1 |
CropLeft | 0.060759 |
CropRight | 1 |
CropTop | 0.060759 |
CustomRendered | Normal |
DateTimeDigitized | 2011:04:05 17:25:41.00+02:00 |
DateTimeOriginal (1) | 2011:04:05 17:25:41.00+02:00 |
DateTimeOriginal | 2011:04:05 17:25:41 |
Defringe | 0 |
DOF | inf (114.15 m - inf) |
ExifImageHeight | 480 |
ExifImageWidth | 720 |
Exposure | 0.00 |
ExposureCompensation | 0 |
ExposureMode | Manual |
ExposureProgram | Manual |
ExposureTime | 1/800 |
FillLight | 16 |
Firmware | 1.2.2 |
Flash | Off, Did not fire |
FlashCompensation | 0 |
FlashFired | False |
FlashFunction | False |
FlashMode | Off |
FlashRedEyeMode | False |
FlashReturn | No return detection |
FNumber | 11.0 |
FocalLength | 155.0 mm |
FocalLength35efl | 155.0 mm (35 mm equivalent: 243.4 mm) |
Format | image/jpeg |
FOV | 8.5 deg |
GradientBasedCorrActive | true |
GradientBasedCorrAmount | 1.000000 |
GradientBasedCorrBrightness | 0.000000 |
GradientBasedCorrClarity | 0.000000 |
GradientBasedCorrContrast | 0.000000 |
GradientBasedCorrExposure | 0.000368 |
GradientBasedCorrHue | 59.855499 |
GradientBasedCorrMaskFullX | 0.479142 |
GradientBasedCorrMaskFullY | 0.143914 |
GradientBasedCorrMaskValue | 1.000000 |
GradientBasedCorrMaskWhat | Mask/Gradient |
GradientBasedCorrMaskZeroX | 0.474647 |
GradientBasedCorrMaskZeroY | 1.144040 |
GradientBasedCorrSaturation (1) | 0.013051 |
GradientBasedCorrSaturation | 0.347461 |
GradientBasedCorrSharpness | 0.000000 |
GradientBasedCorrWhat | Correction |
GrainAmount | 0 |
GreenHue | 0 |
GreenSaturation | 0 |
HasCrop | True |
HasSettings | True |
HighlightRecovery | 70 |
HueAdjustmentAqua | 0 |
HueAdjustmentBlue | 0 |
HueAdjustmentGreen | 0 |
HueAdjustmentMagenta | 0 |
HueAdjustmentOrange | 0 |
HueAdjustmentPurple | 0 |
HueAdjustmentRed | 0 |
HueAdjustmentYellow | 0 |
HyperfocalDistance | 114.15 m |
ICCProfileName | sRGB IEC61966-2.1 |
ImageHeight | 480 |
ImageNumber | 0 |
ImageSize | 720x480 |
ImageWidth | 720 |
ISO | 100 |
Label | |
Lens | EF70-200mm f/2.8L IS II USM |
LensID (1) | 251 |
LensID | Canon EF 70-200mm f/2.8L IS II USM or Canon EF 70-200mm f/2.8L IS III USM |
LensInfo | 70-200mm f/? |
LightValue | 16.6 |
LuminanceAdjustmentAqua | 0 |
LuminanceAdjustmentBlue | 0 |
LuminanceAdjustmentGreen | 0 |
LuminanceAdjustmentMagenta | 0 |
LuminanceAdjustmentOrange | 0 |
LuminanceAdjustmentPurple | 0 |
LuminanceAdjustmentRed | 0 |
LuminanceAdjustmentYellow | 0 |
LuminanceSmoothing | 0 |
Make | Canon |
MaxApertureValue | 2.8 |
Megapixels | 0.346 |
MeteringMode | Multi-segment |
Model | Canon EOS 7D |
ModifyDate (1) | 2011:04:05 23:25:29+02:00 |
ModifyDate | 2011:04:05 23:25:29 |
Orientation | Horizontal (normal) |
ParametricDarks | 0 |
ParametricHighlights | 0 |
ParametricHighlightSplit | 75 |
ParametricLights | 0 |
ParametricMidtoneSplit | 50 |
ParametricShadows | 0 |
ParametricShadowSplit | 25 |
PostCropVignetteAmount | -19 |
PostCropVignetteFeather | 50 |
PostCropVignetteHighlightContrast | 16 |
PostCropVignetteMidpoint | 50 |
PostCropVignetteRoundness | 0 |
PostCropVignetteStyle | 2 |
ProcessVersion | 5.7 |
ProfileDescription | sRGB IEC61966-2.1 |
Rating | 0 |
RawFileName | IMG_2802.CR2 |
RedHue | 0 |
RedSaturation | 0 |
Saturation | +13 |
SaturationAdjustmentAqua | 0 |
SaturationAdjustmentBlue | 0 |
SaturationAdjustmentGreen | 0 |
SaturationAdjustmentMagenta | 0 |
SaturationAdjustmentOrange | 0 |
SaturationAdjustmentPurple | 0 |
SaturationAdjustmentRed | 0 |
SaturationAdjustmentYellow | 0 |
ScaleFactor35efl | 1.6 |
SceneCaptureType | Standard |
SerialNumber | 530503123 |
Shadows | 11 |
ShadowTint | 0 |
SharpenDetail | 48 |
SharpenEdgeMasking | 36 |
SharpenRadius | +1.7 |
Sharpness | 86 |
ShutterSpeed | 1/800 |
ShutterSpeedValue | 1/800 |
Software | Adobe Photoshop CS4 Windows |
SplitToningBalance | 0 |
SplitToningHighlightHue | 76 |
SplitToningHighlightSaturation | 73 |
SplitToningShadowHue | 25 |
SplitToningShadowSaturation | 65 |
SubjectDistance | 4294967295 m |
Tint | +13 |
ToneCurve | 0, 0, 32, 22, 64, 56, 128, 128, 192, 196, 255, 255 |
ToneCurveName | Medium Contrast |
URL_List | |
Version | 5.7 |
Vibrance | 0 |
VignetteAmount | 0 |
WhiteBalance (2) | Custom |
WhiteBalance | Auto |