Felt | Verdi |
2011-03-06T16:09:02+01:00 File C:\Users\Lille Yndlingssønnen\Pictures\Nyksund februar 2011\Tiff\Bolge 2.tif saved
2011-03-06T16:09:32+01:00 File C:\Users\Lille Yndlingssønnen\Pictures\Nyksund februar 2011\Tiff\jpg\Bolge 2.jpg saved
AlreadyApplied | True |
Aperture | 8.0 |
ApertureValue | 8.0 |
Artist | Vegard Heimly |
BitsPerSample | 8 |
BlueHue | 0 |
BlueSaturation | 0 |
Brightness | 0 |
By-line | Vegard Heimly |
CameraProfile | Adobe Standard |
CFAPattern | [Green,Blue][Red,Green] |
ChromaticAberrationB | 0 |
ChromaticAberrationR | 0 |
CircleOfConfusion | 0.020 mm |
Clarity | +78 |
ColorComponents | 3 |
ColorMode | RGB |
ColorNoiseReduction | 25 |
ColorNoiseReductionDetail | 50 |
ColorSpace | Uncalibrated |
ColorTemperature | 6550 |
Contrast (1) | +54 |
Contrast | Normal |
ConvertToGrayscale | True |
Copyright | Vegard Heimly |
CopyrightFlag | True |
CopyrightNotice | Vegard Heimly |
CreateDate (1) | 2011:02:27 11:37:52.00+01:00 |
CreateDate | 2011:02:27 11:37:52 |
Creator | Vegard Heimly |
CreatorTool | Adobe Photoshop CS5 Windows |
CropAngle | 0 |
CropBottom | 0.533066 |
CropLeft | 0.093209 |
CropRight | 0.876165 |
CropTop | 0 |
CustomRendered | Normal |
DateCreated (1) | 2011:02:27 |
DateCreated | 2011:02:27 11:37:52 |
DateTimeOriginal | 2011:02:27 11:37:52 |
Defringe | 0 |
DigitalZoomRatio | 1 |
DOF | inf (50.55 m - inf) |
ExifImageHeight | 471 |
ExifImageWidth | 1024 |
Exposure | -0.95 |
ExposureCompensation | +1 |
ExposureMode | Auto |
ExposureProgram | Aperture-priority AE |
ExposureTime | 1/125 |
FillLight | 0 |
Flash | No Flash |
FNumber | 8.0 |
FocalLength | 90.0 mm |
FocalLength35efl | 90.0 mm (35 mm equivalent: 135.0 mm) |
FocalLengthIn35mmFormat | 135 mm |
Format | image/jpeg |
FOV | 15.2 deg |
GainControl | None |
GradientBasedCorrActive | true |
GradientBasedCorrAmount | 1.000000 |
GradientBasedCorrBrightness | -0.055000 |
GradientBasedCorrClarity | 0.000000 |
GradientBasedCorrContrast | 0.590000 |
GradientBasedCorrExposure | -0.262500 |
GradientBasedCorrHue | 50.000000 |
GradientBasedCorrMaskFullX | 0.479361 |
GradientBasedCorrMaskFullY | -0.004008 |
GradientBasedCorrMaskValue | 1.000000 |
GradientBasedCorrMaskWhat | Mask/Gradient |
GradientBasedCorrMaskZeroX | 0.480692 |
GradientBasedCorrMaskZeroY | 1.000000 |
GradientBasedCorrSaturation (1) | 0.000000 |
GradientBasedCorrSaturation | 0.250000 |
GradientBasedCorrSharpness | 0.000000 |
GradientBasedCorrWhat | Correction |
GrainAmount | 0 |
GrayMixerAqua | -19 |
GrayMixerBlue | +7 |
GrayMixerGreen | -25 |
GrayMixerMagenta | +4 |
GrayMixerOrange | -17 |
GrayMixerPurple | +14 |
GrayMixerRed | -8 |
GrayMixerYellow | -20 |
GreenHue | 0 |
GreenSaturation | 0 |
HasCrop | True |
HasSettings | True |
HighlightRecovery | 8 |
HyperfocalDistance | 50.55 m |
ICCProfileName | Adobe RGB (1998) |
ImageHeight | 471 |
ImageNumber | 9087 |
ImageSize | 1024x471 |
ImageWidth | 1024 |
ISO | 200 |
Lens | 90.0 mm f/2.8 |
LensID (1) | 248 |
LensID | Tamron SP AF 90mm f/2.8 Di Macro 1:1 (272NII) |
LensInfo | 90mm f/2.8 |
LightSource | Cloudy |
LightValue | 12.0 |
LuminanceSmoothing | 0 |
Make | NIKON CORPORATION |
Marked | True |
MaxApertureValue | 2.8 |
Megapixels | 0.482 |
MeteringMode | Multi-segment |
Model | NIKON D90 |
ModifyDate (1) | 2011:03:06 16:09:32+01:00 |
ModifyDate | 2011:03:06 16:09:32 |
Orientation | Horizontal (normal) |
ParametricDarks | 0 |
ParametricHighlights | -22 |
ParametricHighlightSplit | 75 |
ParametricLights | -37 |
ParametricMidtoneSplit | 50 |
ParametricShadows | 0 |
ParametricShadowSplit | 25 |
PostCropVignetteAmount | 0 |
ProcessVersion | 5.7 |
ProfileDescription | Adobe RGB (1998) |
Rating | 0 |
RawFileName | _DSC0362.NEF |
RedHue | 0 |
RedSaturation | 0 |
Rights | Vegard Heimly |
Saturation | Normal |
ScaleFactor35efl | 1.5 |
SceneCaptureType | Standard |
SceneType | Directly photographed |
SensingMethod | One-chip color area |
SerialNumber | 3243063 |
Shadows | 63 |
ShadowTint | 0 |
SharpenDetail | 4 |
SharpenEdgeMasking | 0 |
SharpenRadius | +0.5 |
Sharpness (1) | 25 |
Sharpness | Normal |
ShutterSpeed | 1/125 |
ShutterSpeedValue | 1/125 |
Software | Adobe Photoshop CS5 Windows |
SplitToningBalance | 0 |
SplitToningHighlightHue | 0 |
SplitToningHighlightSaturation | 0 |
SplitToningShadowHue | 0 |
SplitToningShadowSaturation | 0 |
SubjectDistance | 4294967295 m |
SubjectDistanceRange | Unknown |
Tint | -4 |
ToneCurve | 0, 0, 32, 22, 64, 56, 128, 128, 192, 196, 255, 255 |
ToneCurveName | Medium Contrast |
URL_List | |
Version | 6.0 |
VignetteAmount | 0 |
WhiteBalance (1) | Custom |
WhiteBalance | Manual |