Felt | Verdi |
AlreadyApplied | True |
Aperture | 4.0 |
ApertureValue | 4.0 |
ApproximateFNumber | 4.0 |
BaseISO | 160 |
BitsPerSample | 8 |
BlueBalance | 0.566411 |
BlueHue | 0 |
BlueSaturation | 0 |
Brightness | +50 |
By-line | Alf M. Sollund |
CameraProfile | Adobe Standard |
CameraTemperature | 5 C |
CaptionWriter | Alf M. Sollund |
ChromaticAberrationB | 0 |
ChromaticAberrationR | 0 |
CircleOfConfusion | 0.030 mm |
Clarity | +43 |
ColorComponents | 3 |
ColorNoiseReduction | 0 |
ColorTemperature | 2833 |
Contrast (1) | +61 |
Contrast | Normal |
ConvertToGrayscale | False |
Copyright | Alf M. Sollund |
CopyrightFlag | True |
CopyrightNotice | Alf M. Sollund |
CreateDate (1) | 2010:11:06 16:50:42+01:00 |
CreateDate | 2010:11:06 16:50:42 |
Creator | Alf M. Sollund |
CreatorAddress | Amtmanns gt 15 |
CreatorCity | Tromsø |
CreatorCountry | Norway |
CreatorPostalCode | 9008 |
CreatorRegion | Norway |
CreatorTool | Adobe Photoshop Lightroom |
CreatorWorkEmail | alf-martin.sollund@telenor.com |
CreatorWorkTelephone | +4791889676 |
CreatorWorkURL | flyalf.com |
CropAngle | 0 |
CropBottom | 0.932372 |
CropHeight | 819 |
CropLeft | 0.142778 |
CropRight | 0.915867 |
CropTop | 0.002884 |
CropUnit | pixels |
CropWidth | 1024 |
DateTimeDigitized | 2010:11:06 16:50:42+01:00 |
DateTimeOriginal (1) | 2010:11:06 16:50:42+01:00 |
DateTimeOriginal | 2010:11:06 16:50:42 |
Defringe | 0 |
DigitalZoomRatio | 0 |
ExifImageHeight | 819 |
ExifImageWidth | 1024 |
Exposure | +1.05 |
ExposureCompensation | -1.33 |
ExposureMode | Manual |
ExposureProgram | Aperture-priority AE |
ExposureTime | 1 |
ExternalSensorBrightnessValue | -1.76 |
FillLight | 31 |
FirmwareVersion | 1.138 |
Flash | No Flash |
FlashFired | False |
FlashFunction | False |
FlashMode | Unknown |
FlashRedEyeMode | False |
FlashReturn | No return detection |
FNumber | 4.0 |
FocalLength | 90.0 mm |
FocalLength35efl | 90.0 mm (35 mm equivalent: 90.0 mm) |
FocalLengthIn35mmFormat | 90 mm |
FOV | 22.6 deg |
GreenHue | 0 |
GreenSaturation | 0 |
HasCrop | True |
HasSettings | True |
HighlightRecovery | 55 |
HueAdjustmentAqua | 0 |
HueAdjustmentBlue | 0 |
HueAdjustmentGreen | +20 |
HueAdjustmentMagenta | 0 |
HueAdjustmentOrange | 0 |
HueAdjustmentPurple | 0 |
HueAdjustmentRed | +10 |
HueAdjustmentYellow | 0 |
HyperfocalDistance | 67.40 m |
ImageHeight | 819 |
ImageSize | 1024x819 |
ImageWidth | 1024 |
ISO | 200 |
JPEGQuality | Basic |
JPEGSize | 5216x3472 |
Keywords | Ringvassøya, Troms, winter |
Lens | Leica Macro-Elmar-M 90mm f/4 |
LensID (1) | 39 |
LensID | Macro-Elmar-M 90mm f/4 |
LensType | Macro-Elmar-M 90mm f/4 |
LightSource | Unknown |
LightValue | 3.0 |
LuminanceAdjustmentAqua | 0 |
LuminanceAdjustmentBlue | 0 |
LuminanceAdjustmentGreen | 0 |
LuminanceAdjustmentMagenta | 0 |
LuminanceAdjustmentOrange | 0 |
LuminanceAdjustmentPurple | 0 |
LuminanceAdjustmentRed | 0 |
LuminanceAdjustmentYellow | 0 |
LuminanceSmoothing | 0 |
Make | Leica Camera AG |
MakerNoteSafety | Safe |
Marked | True |
MaxApertureValue | 4.0 |
MeasuredLV | -1.68 |
Megapixels | 0.839 |
MeteringMode | Center-weighted average |
Model | M9 Digital Camera |
ModifyDate (1) | 2010:11:07 19:26:47+01:00 |
ModifyDate | 2010:11:07 19:26:47 |
ParametricDarks | -7 |
ParametricHighlights | +12 |
ParametricHighlightSplit | 75 |
ParametricLights | +7 |
ParametricMidtoneSplit | 50 |
ParametricShadows | -12 |
ParametricShadowSplit | 25 |
PostCropVignetteAmount | 0 |
ProfileDescription | sRGB IEC61966-2.1 |
Rating | 5 |
RedBalance | 0.690929 |
RedHue | 0 |
RedSaturation | 0 |
Rights | Alf M. Sollund |
Saturation (1) | +10 |
Saturation | Normal |
SaturationAdjustmentAqua | 0 |
SaturationAdjustmentBlue | -30 |
SaturationAdjustmentGreen | +10 |
SaturationAdjustmentMagenta | 0 |
SaturationAdjustmentOrange | 0 |
SaturationAdjustmentPurple | 0 |
SaturationAdjustmentRed | -10 |
SaturationAdjustmentYellow | 0 |
ScaleFactor35efl | 1.0 |
SceneCaptureType | Standard |
SceneType | Directly photographed |
SensorBitDepth | 14 |
SensorHeight | 3516 |
SensorWidth | 5270 |
SerialNumber | 3834853 |
Shadows | 2 |
ShadowTint | 0 |
SharpenDetail | 10 |
SharpenEdgeMasking | 20 |
Sharpening | Normal |
SharpenRadius | +1.5 |
Sharpness | 10 |
ShutterSpeed | 1 |
ShutterSpeedValue | 1 |
Software | 1.138 |
SplitToningBalance | 0 |
SplitToningHighlightHue | 0 |
SplitToningHighlightSaturation | 0 |
SplitToningShadowHue | 0 |
SplitToningShadowSaturation | 0 |
Subject | Ringvassøya, Troms, winter |
Tint | +21 |
ToneCurve | 0, 0, 32, 22, 64, 56, 128, 128, 192, 196, 255, 255 |
ToneCurveName | Medium Contrast |
UserProfile | Profile 4 |
Version | 5.6.1 |
Vibrance | +21 |
VignetteAmount | 0 |
WB_RGBLevels | 0.6909290263 1 0.5664108415 |
WhiteBalance (3) | Custom |
WhiteBalance | Auto |
Writer-Editor | Alf M. Sollund |