Felt | Verdi |
AlreadyApplied | True |
Aperture | 4.0 |
ApertureValue | 4.0 |
ApproximateFNumber | 4.0 |
BaseISO | 160 |
BitsPerSample | 8 |
BlueBalance | 0.878216 |
BlueHue | 0 |
BlueSaturation | 0 |
Brightness | +16 |
CameraProfile | Adobe Standard |
CameraTemperature | 11 C |
ChromaticAberrationB | 0 |
ChromaticAberrationR | 0 |
CircleOfConfusion | 0.006 mm |
Clarity | +15 |
ColorComponents | 3 |
ColorNoiseReduction | 10 |
ColorSpace | Uncalibrated |
ColorTemperature | 5750 |
Contrast (1) | High |
Contrast | Normal |
ConvertToGrayscale | False |
CreateDate (1) | 2010:06:01 23:28:49+02:00 |
CreateDate | 2010:06:01 23:28:49 |
CreatorTool | Adobe Photoshop Lightroom |
CropAngle | 2 |
CropBottom | 0.993061 |
CropHeight | 681 |
CropLeft | 0.087134 |
CropRight | 0.831814 |
CropTop | 0.190653 |
CropUnit | pixels |
CropWidth | 1024 |
DateTimeDigitized | 2010:06:01 23:28:49+02:00 |
DateTimeOriginal (1) | 2010:06:01 23:28:49+02:00 |
DateTimeOriginal | 2010:06:01 23:28:49 |
Defringe | 0 |
DigitalZoomRatio | 0 |
ExifImageHeight | 681 |
ExifImageWidth | 1024 |
Exposure | -0.23 |
ExposureCompensation | 0 |
ExposureMode | Manual |
ExposureProgram | Aperture-priority AE |
ExposureTime | 1/30 |
ExternalSensorBrightnessValue | 1.47 |
FillLight | 35 |
FirmwareVersion | 1.116 |
Flash | No Flash |
FlashFired | False |
FlashFunction | False |
FlashMode | Unknown |
FlashRedEyeMode | False |
FlashReturn | No return detection |
FNumber | 4.0 |
GreenHue | 0 |
GreenSaturation | 0 |
HasCrop | True |
HasSettings | True |
HierarchicalSubject | 18mm, Troms, Tromsø, spring |
HighlightRecovery | 93 |
HueAdjustmentAqua | 0 |
HueAdjustmentBlue | 0 |
HueAdjustmentGreen | +18 |
HueAdjustmentMagenta | 0 |
HueAdjustmentOrange | 0 |
HueAdjustmentPurple | 0 |
HueAdjustmentRed | +8 |
HueAdjustmentYellow | 0 |
ImageHeight | 681 |
ImageSize | 1024x681 |
ImageWidth | 1024 |
ISO | 320 |
JPEGQuality | Basic |
JPEGSize | 5216x3472 |
Keywords | 18mm, Troms, Tromsø, spring |
LensID | Uncoded lens |
LensType | Uncoded lens |
LightSource | Unknown |
LightValue | 7.2 |
LuminanceAdjustmentAqua | 0 |
LuminanceAdjustmentBlue | 0 |
LuminanceAdjustmentGreen | 0 |
LuminanceAdjustmentMagenta | 0 |
LuminanceAdjustmentOrange | 0 |
LuminanceAdjustmentPurple | 0 |
LuminanceAdjustmentRed | 0 |
LuminanceAdjustmentYellow | 0 |
LuminanceSmoothing | 0 |
Make | Leica Camera AG |
MakerNoteSafety | Safe |
MaxApertureValue | 1.0 |
MeasuredLV | 2.24 |
Megapixels | 0.697 |
MeteringMode | Center-weighted average |
Model | M9 Digital Camera |
ModifyDate (1) | 2010:06:02 00:32:19+02:00 |
ModifyDate | 2010:06:02 00:32:19 |
ParametricDarks | -7 |
ParametricHighlights | +15 |
ParametricHighlightSplit | 75 |
ParametricLights | +7 |
ParametricMidtoneSplit | 50 |
ParametricShadows | -15 |
ParametricShadowSplit | 25 |
PostCropVignetteAmount | 0 |
ProfileDescription | sRGB IEC61966-2.1 |
RedBalance | 0.440928 |
RedHue | 0 |
RedSaturation | 0 |
Saturation (1) | High |
Saturation | Normal |
SaturationAdjustmentAqua | 0 |
SaturationAdjustmentBlue | -30 |
SaturationAdjustmentGreen | +8 |
SaturationAdjustmentMagenta | 0 |
SaturationAdjustmentOrange | 0 |
SaturationAdjustmentPurple | 0 |
SaturationAdjustmentRed | -10 |
SaturationAdjustmentYellow | 0 |
ScaleFactor35efl | 5.1 |
SceneCaptureType | Standard |
SceneType | Directly photographed |
SensorBitDepth | 14 |
SensorHeight | 3516 |
SensorWidth | 5270 |
SerialNumber | 3834853 |
Shadows | 0 |
ShadowTint | 0 |
SharpenDetail | 10 |
SharpenEdgeMasking | 0 |
Sharpening | Off |
SharpenRadius | +2.2 |
Sharpness | Hard |
ShutterSpeed | 1/30 |
ShutterSpeedValue | 1/30 |
Software | 1.116; post-processed by CornerFix 1.3.0.4 |
SplitToningBalance | 0 |
SplitToningHighlightHue | 0 |
SplitToningHighlightSaturation | 0 |
SplitToningShadowHue | 0 |
SplitToningShadowSaturation | 0 |
Subject | 18mm, Troms, Tromsø, spring |
Tint | -12 |
ToneCurve | 0, 0, 32, 22, 64, 56, 128, 128, 192, 196, 255, 255 |
ToneCurveName | Medium Contrast |
UserProfile | Profile 1 |
Version | 5.6.1 |
Vibrance | +10 |
VignetteAmount | 0 |
WB_RGBLevels | 0.4409279294 1 0.8782161235 |
WhiteBalance | Auto |