Felt | Verdi |
AlreadyApplied | True |
Aperture | 3.0 |
ApertureValue | 3.0 |
BitsPerSample | 8 |
BlueHue | 0 |
BlueSaturation | 0 |
Brightness | +42 |
CameraProfile | Adobe Standard |
CFAPattern | [Red,Green][Green,Blue] |
ChromaticAberrationB | 0 |
ChromaticAberrationR | 0 |
CircleOfConfusion | 0.030 mm |
Clarity | +50 |
ColorComponents | 3 |
ColorMode | RGB |
ColorNoiseReduction | 10 |
ColorSpace | sRGB |
ColorTemperature | 5500 |
Contrast (2) | +69 |
Contrast | Normal |
ConvertToGrayscale | False |
CopyrightFlag | False |
CreateDate (1) | 2010:03:12 15:45:53+01:00 |
CreateDate | 2009:05:21 12:55:32 |
CreatorTool | Adobe Photoshop CS3 Macintosh |
CropAngle | 0 |
CropBottom | 0.941772 |
CropHeight | 3797 |
CropLeft | 0 |
CropRight | 1 |
CropTop | 0 |
CropUnit | pixels |
CropWidth | 6048 |
CustomRendered | Normal |
DateTimeDigitized | 2009:05:21 12:55:32.24+02:00 |
DateTimeOriginal (1) | 2009:05:21 12:55:32.24+02:00 |
DateTimeOriginal | 2009:05:21 12:55:32 |
Defringe | 0 |
DigitalZoomRatio | 1 |
DOF | 0.04 m (1.66 - 1.70 m) |
ExifImageHeight | 804 |
ExifImageWidth | 1280 |
Exposure | -0.33 |
ExposureCompensation | 0 |
ExposureMode | Auto |
ExposureProgram | Aperture-priority AE |
ExposureTime | 1/1600 |
FillLight | 0 |
Flash | No Flash |
FlashFired | False |
FlashFunction | False |
FlashMode | Unknown |
FlashRedEyeMode | False |
FlashReturn | No return detection |
FNumber | 3.0 |
FocalLength | 105.0 mm |
FocalLength35efl | 105.0 mm (35 mm equivalent: 105.0 mm) |
FocalLengthIn35mmFormat | 105 mm |
Format | image/jpeg |
FOV | 19.5 deg |
GainControl | None |
GreenHue | 0 |
GreenSaturation | 0 |
HasCrop | True |
HasSettings | True |
HighlightRecovery | 5 |
HueAdjustmentAqua | 0 |
HueAdjustmentBlue | 0 |
HueAdjustmentGreen | 0 |
HueAdjustmentMagenta | 0 |
HueAdjustmentOrange | 0 |
HueAdjustmentPurple | 0 |
HueAdjustmentRed | 0 |
HueAdjustmentYellow | 0 |
HyperfocalDistance | 122.31 m |
ICCProfileName | sRGB IEC61966-2.1 |
ImageHeight (1) | 3797 |
ImageHeight | 804 |
ImageNumber | 1989 |
ImageSize | 1280x804 |
ImageWidth (1) | 6048 |
ImageWidth | 1280 |
ISO | 200 |
Lens | 105.0 mm f/2.8 |
LensInfo | 105mm f/2.8 |
LightSource | Unknown |
LightValue | 12.8 |
LuminanceAdjustmentAqua | 0 |
LuminanceAdjustmentBlue | 0 |
LuminanceAdjustmentGreen | 0 |
LuminanceAdjustmentMagenta | 0 |
LuminanceAdjustmentOrange | 0 |
LuminanceAdjustmentPurple | 0 |
LuminanceAdjustmentRed | 0 |
LuminanceAdjustmentYellow | 0 |
LuminanceSmoothing | 0 |
Make | NIKON CORPORATION |
MaxApertureValue | 2.9 |
Megapixels | 1.0 |
MeteringMode | Multi-segment |
Model | NIKON D3X |
ModifyDate (1) | 2010:03:12 15:45:53+01:00 |
ModifyDate | 2010:03:12 15:45:53 |
Orientation | Horizontal (normal) |
PaintCorrectionActive | true |
PaintCorrectionAmount | 1.000000 |
PaintCorrectionBrightness | 0.000000 |
PaintCorrectionClarity | 0.000000 |
PaintCorrectionContrast | 0.000000 |
PaintCorrectionExposure (1) | 0.057471 |
PaintCorrectionExposure | -0.057471 |
PaintCorrectionHue | 0.000000 |
PaintCorrectionMaskCenterWeight | 0.000000 |
PaintCorrectionMaskFlow | 1.000000 |
PaintCorrectionMaskRadius (2) | 0.033489 |
PaintCorrectionMaskRadius (8) | 0.044053 |
PaintCorrectionMaskRadius | 0.192407 |
PaintCorrectionMaskValue | 1.000000 |
PaintCorrectionMaskWhat | Mask/Paint |
PaintCorrectionSaturation | 0.000000 |
PaintCorrectionSharpness | 0.000000 |
PaintCorrectionWhat | Correction |
ParametricDarks | -10 |
ParametricHighlights | 0 |
ParametricHighlightSplit | 75 |
ParametricLights | +10 |
ParametricMidtoneSplit | 50 |
ParametricShadows | 0 |
ParametricShadowSplit | 25 |
PostCropVignetteAmount | 0 |
ProfileDescription | sRGB IEC61966-2.1 |
Rating | 2 |
RedHue | 0 |
RedSaturation | 0 |
Saturation (2) | 0 |
Saturation | Normal |
SaturationAdjustmentAqua | 0 |
SaturationAdjustmentBlue | 0 |
SaturationAdjustmentGreen | 0 |
SaturationAdjustmentMagenta | 0 |
SaturationAdjustmentOrange | 0 |
SaturationAdjustmentPurple | 0 |
SaturationAdjustmentRed | 0 |
SaturationAdjustmentYellow | 0 |
ScaleFactor35efl | 1.0 |
SceneCaptureType | Standard |
SceneType | Directly photographed |
SensingMethod | One-chip color area |
SerialNumber | 5010305 |
Shadows | 25 |
ShadowTint | 0 |
SharpenDetail | 67 |
SharpenEdgeMasking | 68 |
SharpenRadius | +0.5 |
Sharpness (2) | 101 |
Sharpness | Normal |
ShutterSpeed | 1/1600 |
ShutterSpeedValue | 1/1600 |
Software | Adobe Photoshop CS3 Macintosh |
SplitToningBalance | 0 |
SplitToningHighlightHue | 0 |
SplitToningHighlightSaturation | 0 |
SplitToningShadowHue | 0 |
SplitToningShadowSaturation | 0 |
SubjectDistance | 1.68 m |
SubjectDistanceRange | Unknown |
Tint | +34 |
ToneCurve | 0, 0, 32, 22, 64, 56, 128, 128, 192, 196, 255, 255 |
ToneCurveName | Medium Contrast |
URL_List | |
Version | 5.6 |
Vibrance | +38 |
VignetteAmount | 0 |
WhiteBalance (2) | Custom |
WhiteBalance | Auto |