Felt | Verdi |
AlreadyApplied | True |
Aperture | 9.0 |
ApertureValue | 9.0 |
BitsPerSample | 8 |
BlueHue | 0 |
BlueSaturation | 0 |
Brightness | +70 |
CameraProfile | Adobe Standard |
CFAPattern | [Green,Blue][Red,Green] |
ChromaticAberrationB | 0 |
ChromaticAberrationR | 0 |
CircleOfConfusion | 0.020 mm |
Clarity | +76 |
ColorComponents | 1 |
ColorMode | Grayscale |
ColorNoiseReduction | 25 |
ColorSpace | Uncalibrated |
ColorTemperature | 5850 |
Contrast (2) | +66 |
Contrast | Normal |
ConvertToGrayscale | True |
CreateDate (1) | 2009:08:28 18:51:40.10+02:00 |
CreateDate | 2009:08:28 18:51:40 |
CreatorTool | Nikon Transfer 1.0 W |
CropAngle | 0 |
CropBottom | 0.81694 |
CropLeft | 0.030192 |
CropRight | 0.831656 |
CropTop | 0.065574 |
CustomRendered | Normal |
DateTimeDigitized | 2009:08:28 18:51:40.10+02:00 |
DateTimeOriginal (1) | 2009:08:28 18:51:40.10+02:00 |
DateTimeOriginal | 2009:08:28 18:51:40 |
Defringe | 0 |
DigitalZoomRatio | 1 |
ExifImageHeight | 1948 |
ExifImageWidth | 3103 |
Exposure | -0.25 |
ExposureCompensation | 0 |
ExposureMode | Auto |
ExposureProgram | Not Defined |
ExposureTime | 1/125 |
FillLight | 48 |
Flash | Off, Did not fire |
FlashFired | False |
FlashFunction | False |
FlashMode | Off |
FlashRedEyeMode | False |
FlashReturn | No return detection |
FNumber | 9.0 |
FocalLength | 23.0 mm |
FocalLength35efl | 23.0 mm (35 mm equivalent: 34.0 mm) |
FocalLengthIn35mmFormat | 34 mm |
Format | image/jpeg |
FOV | 55.8 deg |
GainControl | None |
GrayMixerAqua | -19 |
GrayMixerBlue | +9 |
GrayMixerGreen | -89 |
GrayMixerMagenta | +4 |
GrayMixerOrange | +55 |
GrayMixerPurple | +15 |
GrayMixerRed | +84 |
GrayMixerYellow | -22 |
GreenHue | 0 |
GreenSaturation | 0 |
HasCrop | True |
HasSettings | True |
HighlightRecovery | 0 |
HyperfocalDistance | 2.89 m |
ICCProfileName | Gray Gamma 2.2 |
ImageHeight | 1948 |
ImageNumber | 790 |
ImageSize | 3103x1948 |
ImageWidth | 3103 |
ISO | 200 |
Lens | 18.0-55.0 mm f/3.5-5.6 |
LensInfo | 18-55mm f/3.5-5.6 |
LightSource | Unknown |
LightValue | 12.3 |
LuminanceSmoothing | 0 |
Make | NIKON CORPORATION |
MaxApertureValue | 3.7 |
Megapixels | 6.0 |
MeteringMode | Multi-segment |
Model | NIKON D60 |
ModifyDate (1) | 2009:09:06 11:33:21+02:00 |
ModifyDate | 2009:09:06 11:33:21 |
Orientation | Horizontal (normal) |
ParametricDarks | -5 |
ParametricHighlights | +21 |
ParametricHighlightSplit | 75 |
ParametricLights | 0 |
ParametricMidtoneSplit | 50 |
ParametricShadows | -7 |
ParametricShadowSplit | 25 |
PostCropVignetteAmount | +5 |
PostCropVignetteFeather | 50 |
PostCropVignetteMidpoint | 50 |
PostCropVignetteRoundness | 0 |
ProfileDescription | Gray Gamma 2.2 |
Rating | 0 |
RatingPercent | 0 |
RawFileName | DSC_0078.NEF |
RedHue | 0 |
RedSaturation | 0 |
Saturation | Normal |
ScaleFactor35efl | 1.5 |
SceneCaptureType | Landscape |
SceneType | Directly photographed |
SensingMethod | One-chip color area |
SerialNumber | 6477069 |
Shadows | 16 |
ShadowTint | 0 |
SharpenDetail | 25 |
SharpenEdgeMasking | 0 |
SharpenRadius | +1.0 |
Sharpness (2) | 25 |
Sharpness | Hard |
ShutterSpeed | 1/125 |
ShutterSpeedValue | 1/125 |
SidecarForExtension | NEF |
Software | Adobe Photoshop CS4 Windows |
SplitToningBalance | 0 |
SplitToningHighlightHue | 0 |
SplitToningHighlightSaturation | 0 |
SplitToningShadowHue | 0 |
SplitToningShadowSaturation | 0 |
SubjectDistanceRange | Unknown |
Tint | 0 |
ToneCurve | 0, 0, 32, 22, 64, 56, 128, 128, 192, 196, 255, 255 |
ToneCurveName | Medium Contrast |
URL_List | |
Version | 5.4 |
VignetteAmount | -28 |
VignetteMidpoint | 33 |
WhiteBalance (2) | As Shot |
WhiteBalance | Auto |