Felt | Verdi |
AlreadyApplied | True |
Aperture | 4.5 |
ApertureValue | 4.5 |
Artist | Photographer: Stein Hofve |
BitsPerSample | 8 |
BlueHue | 0 |
BlueSaturation | 0 |
Brightness | -49 |
By-line | Photographer: Stein Hofve |
CameraProfile | Adobe Standard |
ChromaticAberrationB | 0 |
ChromaticAberrationR | 0 |
CircleOfConfusion | 0.031 mm |
Clarity | +86 |
ColorComponents | 3 |
ColorMode | RGB |
ColorNoiseReduction | 25 |
ColorSpace | sRGB |
ColorTemperature | 5250 |
Contrast | +45 |
ConvertToGrayscale | True |
Copyright | Copyright: Stein Hofve |
CopyrightNotice | Copyright: Stein Hofve |
CreateDate (1) | 2009:05:20 15:56:21.67+02:00 |
CreateDate | 2009:05:20 15:56:21 |
Creator | Photographer: Stein Hofve |
CropAngle | 0.556252 |
CropBottom | 1 |
CropLeft | 0.010367 |
CropRight | 0.989633 |
CropTop | 0 |
CustomRendered | Normal |
DateTimeDigitized | 2009:05:20 15:56:21.67+02:00 |
DateTimeOriginal (1) | 2009:05:20 15:56:21.67+02:00 |
DateTimeOriginal | 2009:05:20 15:56:21 |
Defringe | 0 |
ExifImageHeight | 413 |
ExifImageWidth | 620 |
Exposure | +0.95 |
ExposureCompensation | 0 |
ExposureMode | Auto |
ExposureProgram | Program AE |
ExposureTime | 1/80 |
FillLight | 54 |
Firmware | 1.0.6 |
Flash | Off, Did not fire |
FlashCompensation | 0 |
FlashFired | False |
FlashFunction | False |
FlashMode | Off |
FlashRedEyeMode | False |
FlashReturn | No return detection |
FNumber | 4.5 |
FocalLength | 25.0 mm |
FocalLength35efl | 25.0 mm (35 mm equivalent: 24.4 mm) |
Format | image/jpeg |
FOV | 72.8 deg |
GrayMixerAqua | -15 |
GrayMixerBlue | +18 |
GrayMixerGreen | -28 |
GrayMixerMagenta | +5 |
GrayMixerOrange | -21 |
GrayMixerPurple | +22 |
GrayMixerRed | -11 |
GrayMixerYellow | -26 |
GreenHue | 0 |
GreenSaturation | 0 |
HasCrop | True |
HasSettings | True |
HierarchicalSubject | Steder|Lefkas |
HighlightRecovery | 9 |
HyperfocalDistance | 4.51 m |
ICCProfileName | sRGB IEC61966-2.1 |
ImageHeight | 413 |
ImageNumber | 0 |
ImageSize | 620x413 |
ImageWidth | 620 |
ISO | 100 |
Keywords | Lefkas |
Lens | EF16-35mm f/2.8L II USM |
LensInfo | 16-35mm f/? |
LightValue | 10.7 |
LuminanceSmoothing | 39 |
Make | Canon |
MaxApertureValue | 2.8 |
Megapixels | 0.256 |
MeteringMode | Multi-segment |
Model | Canon EOS 5D Mark II |
ModifyDate (1) | 2009:09:08 23:25:50+02:00 |
ModifyDate | 2009:09:08 23:25:50 |
Orientation | Horizontal (normal) |
OwnerName | Stein Hofve |
ParametricDarks | 0 |
ParametricHighlights | 0 |
ParametricHighlightSplit | 75 |
ParametricLights | 0 |
ParametricMidtoneSplit | 50 |
ParametricShadows | 0 |
ParametricShadowSplit | 25 |
PostCropVignetteAmount | -13 |
PostCropVignetteFeather | 50 |
PostCropVignetteMidpoint | 81 |
PostCropVignetteRoundness | +44 |
ProfileDescription | sRGB IEC61966-2.1 |
Rating | 2 |
RawFileName | IMG_3415.dng |
RedHue | 0 |
RedSaturation | 0 |
Rights | Copyright: Stein Hofve |
ScaleFactor35efl | 1.0 |
SceneCaptureType | Standard |
SerialNumber | 130101083 |
Shadows | 48 |
ShadowTint | 0 |
SharpenDetail | 54 |
SharpenEdgeMasking | 53 |
SharpenRadius | +1.0 |
Sharpness | 108 |
ShutterSpeed | 1/80 |
ShutterSpeedValue | 1/80 |
Software | Adobe Photoshop CS4 Macintosh |
SplitToningBalance | 0 |
SplitToningHighlightHue | 0 |
SplitToningHighlightSaturation | 0 |
SplitToningShadowHue | 0 |
SplitToningShadowSaturation | 0 |
Subject | Lefkas |
Tint | +11 |
ToneCurve | 0, 0, 32, 16, 64, 50, 128, 128, 192, 202, 255, 255 |
ToneCurveName | Strong Contrast |
URL_List | |
Version | 5.4 |
VignetteAmount | -84 |
VignetteMidpoint | 20 |
WhiteBalance (2) | Custom |
WhiteBalance | Auto |