Felt | Verdi |
AlreadyApplied | True |
Aperture | 11.0 |
ApertureValue | 11.0 |
BitsPerSample | 8 |
BlueHue | 0 |
BlueSaturation | 0 |
Brightness | +61 |
CameraProfile | ACR 4.5 |
Caption-Abstract | OLYMPUS DIGITAL CAMERA |
CFAPattern | [Red,Green][Green,Blue] |
ChromaticAberrationB | 0 |
ChromaticAberrationR | 0 |
Clarity | +58 |
ColorComponents | 1 |
ColorMode | Grayscale |
ColorNoiseReduction | 25 |
ColorSpace (1) | Unknown (-1) |
ColorSpace | Uncalibrated |
ColorTemperature | 6900 |
Contrast (2) | +76 |
Contrast | Normal |
ConvertToGrayscale | True |
CopyrightFlag | False |
CreateDate (1) | 2009:03:25 13:17:19+01:00 |
CreateDate | 2009:03:22 13:24:41 |
CreatorTool | Adobe Photoshop CS3 Windows |
CropAngle | -1.904922 |
CropBottom | 0.944683 |
CropLeft | 0 |
CropRight | 0.630418 |
CropTop | 0.026911 |
CustomRendered | Normal |
DateTimeDigitized | 2009:03:22 13:24:41+01:00 |
DateTimeOriginal (1) | 2009:03:22 13:24:41+01:00 |
DateTimeOriginal | 2009:03:22 13:24:41 |
Defringe | 0 |
Description | OLYMPUS DIGITAL CAMERA |
DigitalZoomRatio | 1 |
ExifImageHeight | 700 |
ExifImageWidth | 600 |
Exposure | +0.50 |
ExposureCompensation | 0 |
ExposureMode | Auto |
ExposureProgram | Aperture-priority AE |
ExposureTime | 1/80 |
FillLight | 0 |
Flash | Auto, Did not fire |
FlashCompensation | 0 |
FlashFired | False |
FlashFunction | False |
FlashMode | Auto |
FlashRedEyeMode | False |
FlashReturn | No return detection |
FNumber | 11.0 |
FocalLength | 17.0 mm |
FocalLength35efl | 17.0 mm |
Format | image/jpeg |
GainControl | None |
GrayMixerAqua | +100 |
GrayMixerBlue | -30 |
GrayMixerGreen | +51 |
GrayMixerMagenta | -2 |
GrayMixerOrange | -39 |
GrayMixerPurple | +5 |
GrayMixerRed | +86 |
GrayMixerYellow | +57 |
GreenHue | 0 |
GreenSaturation | 0 |
HasCrop | True |
HasSettings | True |
HighlightRecovery | 34 |
ICCProfileName | Gray Gamma 2.2 |
ImageDescription | OLYMPUS DIGITAL CAMERA |
ImageHeight | 700 |
ImageSize | 600x700 |
ImageWidth | 600 |
ISO | 100 |
Lens | 14.0-42.0 mm f/3.5-5.6 |
LensInfo | 14-42mm f/3.5-5.6 |
LensSerialNumber | 212673762 |
LightSource | Unknown |
LightValue | 13.2 |
LuminanceSmoothing | 0 |
Make | OLYMPUS IMAGING CORP. |
MaxApertureValue | 3.5 |
Megapixels | 0.420 |
MeteringMode | Spot |
Model | E-420 |
ModifyDate (1) | 2009:03:25 13:17:19+01:00 |
ModifyDate | 2009:03:25 13:17:19 |
Orientation | Horizontal (normal) |
ParametricDarks | 0 |
ParametricHighlights | 0 |
ParametricHighlightSplit | 75 |
ParametricLights | 0 |
ParametricMidtoneSplit | 50 |
ParametricShadows | 0 |
ParametricShadowSplit | 25 |
PostCropVignetteAmount | 0 |
ProfileDescription | Gray Gamma 2.2 |
Rating | 0 |
RawFileName | P3220902.ORF |
RedHue | 0 |
RedSaturation | 0 |
Saturation | Normal |
SceneCaptureType | Standard |
SerialNumber | G21558808 |
Shadows | 14 |
ShadowTint | 0 |
SharpenDetail | 25 |
SharpenEdgeMasking | 0 |
SharpenRadius | +1.0 |
Sharpness (2) | 25 |
Sharpness | Normal |
ShutterSpeed | 1/80 |
ShutterSpeedValue | 1/80 |
SidecarForExtension | ORF |
Software | Adobe Photoshop CS3 Windows |
SplitToningBalance | 0 |
SplitToningHighlightHue | 0 |
SplitToningHighlightSaturation | 0 |
SplitToningShadowHue | 0 |
SplitToningShadowSaturation | 0 |
Tint | +10 |
ToneCurve | 0, 0, 32, 22, 64, 56, 128, 128, 192, 196, 255, 255 |
ToneCurveName | Medium Contrast |
URL_List | |
Version | 4.6 |
VignetteAmount | 0 |
WhiteBalance (2) | Custom |
WhiteBalance | Auto |