Felt | Verdi |
AlreadyApplied | True |
Aperture | 5.0 |
ApertureValue | 5.0 |
Artist | Robert Fredagsvik |
BitsPerSample | 8 |
BlueHue | 0 |
BlueSaturation | 0 |
Brightness | +50 |
By-line | Robert Fredagsvik |
CameraProfile | ACR 3.4 |
ChromaticAberrationB | 0 |
ChromaticAberrationR | 0 |
CircleOfConfusion | 0.019 mm |
Clarity | 0 |
ColorComponents | 3 |
ColorMode | RGB |
ColorNoiseReduction | 5 |
ColorSpace | sRGB |
ColorTemperature | 5100 |
Contrast | +5 |
ConvertToGrayscale | False |
Copyright | Robert Fredagsvik |
CopyrightFlag | False |
CopyrightNotice | Robert Fredagsvik |
CreateDate (1) | 2008:01:13 18:54:28+01:00 |
CreateDate | 2007:07:11 15:36:47 |
Creator | Robert Fredagsvik |
CreatorTool | Adobe Photoshop CS3 Windows |
CustomRendered | Normal |
DateTimeDigitized | 2007:07:11 15:36:47+02:00 |
DateTimeOriginal (1) | 2007:07:11 15:36:47+02:00 |
DateTimeOriginal | 2007:07:11 15:36:47 |
Defringe | 0 |
DerivedFrom | |
ExifImageHeight | 768 |
ExifImageWidth | 1152 |
Exposure | +0.15 |
ExposureCompensation | 0 |
ExposureMode | Auto |
ExposureProgram | Aperture-priority AE |
ExposureTime | 1/1000 |
FillLight | 0 |
Firmware | 1.0.5 |
Flash | Off, Did not fire |
FlashCompensation | 0 |
FlashFired | False |
FlashFunction | False |
FlashMode | Off |
FlashRedEyeMode | False |
FlashReturn | No return detection |
FNumber | 5.0 |
FocalLength | 200.0 mm |
FocalLength35efl | 200.0 mm (35 mm equivalent: 320.3 mm) |
Format | image/jpeg |
FOV | 6.4 deg |
GreenHue | 0 |
GreenSaturation | 0 |
HasCrop | False |
HasSettings | True |
HighlightRecovery | 25 |
HueAdjustmentAqua | 0 |
HueAdjustmentBlue | 0 |
HueAdjustmentGreen | 0 |
HueAdjustmentMagenta | 0 |
HueAdjustmentOrange | 0 |
HueAdjustmentPurple | 0 |
HueAdjustmentRed | 0 |
HueAdjustmentYellow | 0 |
HyperfocalDistance | 426.41 m |
ICCProfileName | sRGB IEC61966-2.1 |
ImageHeight | 768 |
ImageNumber | 64 |
ImageSize | 1152x768 |
ImageWidth | 1152 |
ISO | 400 |
Lens | EF70-200mm f/4L IS USM |
LensInfo | 70-200mm f/? |
LightValue | 12.6 |
LuminanceAdjustmentAqua | 0 |
LuminanceAdjustmentBlue | 0 |
LuminanceAdjustmentGreen | 0 |
LuminanceAdjustmentMagenta | 0 |
LuminanceAdjustmentOrange | 0 |
LuminanceAdjustmentPurple | 0 |
LuminanceAdjustmentRed | 0 |
LuminanceAdjustmentYellow | 0 |
LuminanceSmoothing | 0 |
Make | Canon |
MaxApertureValue | 4.0 |
Megapixels | 0.885 |
MeteringMode | Multi-segment |
Model | Canon EOS 30D |
ModifyDate (1) | 2008:01:13 18:54:28+01:00 |
ModifyDate | 2008:01:13 18:54:28 |
Orientation | Horizontal (normal) |
OwnerName | Robert Fredagsvik |
ParametricDarks | 0 |
ParametricHighlights | 0 |
ParametricHighlightSplit | 75 |
ParametricLights | 0 |
ParametricMidtoneSplit | 50 |
ParametricShadows | 0 |
ParametricShadowSplit | 25 |
ProfileDescription | sRGB IEC61966-2.1 |
Rating | 0 |
RawFileName | 07.07.11-Tornskate-Sollerön02.cr2 |
RedHue | 0 |
RedSaturation | 0 |
Rights | Robert Fredagsvik |
Saturation | +20 |
SaturationAdjustmentAqua | 0 |
SaturationAdjustmentBlue | 0 |
SaturationAdjustmentGreen | 0 |
SaturationAdjustmentMagenta | 0 |
SaturationAdjustmentOrange | 0 |
SaturationAdjustmentPurple | 0 |
SaturationAdjustmentRed | 0 |
SaturationAdjustmentYellow | 0 |
ScaleFactor35efl | 1.6 |
SceneCaptureType | Standard |
SerialNumber | 1230806282 |
Shadows | 14 |
ShadowTint | 0 |
SharpenDetail | 25 |
SharpenEdgeMasking | 0 |
SharpenRadius | +1.0 |
Sharpness | 15 |
ShutterSpeed | 1/1000 |
ShutterSpeedValue | 1/1000 |
SidecarForExtension | CR2 |
Software | Adobe Photoshop CS3 Windows |
SplitToningBalance | 0 |
SplitToningHighlightHue | 0 |
SplitToningHighlightSaturation | 0 |
SplitToningShadowHue | 0 |
SplitToningShadowSaturation | 0 |
Tint | +9 |
ToneCurve | 0, 0, 32, 22, 64, 56, 128, 128, 192, 196, 255, 255 |
ToneCurveName | Medium Contrast |
URL_List | |
Version | 4.3.1 |
Vibrance | 0 |
VignetteAmount | 0 |
WhiteBalance (2) | Custom |
WhiteBalance | Auto |