Felt | Verdi |
AlreadyApplied | True |
Aperture | 2.8 |
ApertureValue | 2.8 |
BitsPerSample | 8 |
BlueHue | 0 |
BlueSaturation | 0 |
Brightness | 0 |
BrightnessValue | -1 |
CameraProfile | Embedded |
Caption-Abstract | KONICA MINOLTA DIGITAL CAMERA |
ChromaticAberrationB | 0 |
ChromaticAberrationR | 0 |
CircleOfConfusion | 0.020 mm |
Clarity | 0 |
ColorComponents | 3 |
ColorNoiseReduction | 0 |
ColorSpace | Unknown (-1) |
Contrast (2) | 0 |
Contrast | Normal |
ConvertToGrayscale | False |
CreateDate (1) | 2006:08:20 05:17:08+02:00 |
CreateDate | 2006:08:20 05:17:08 |
CreatorTool | Adobe Photoshop Lightroom |
CropAngle | -1 |
CropBottom | 0.974419 |
CropHeight | 766 |
CropLeft | 0.007136 |
CropRight | 0.992864 |
CropTop | 0.025581 |
CropUnit | pixels |
CropWidth | 1152 |
CustomRendered | Normal |
DateTimeDigitized | 2006:08:20 05:17:08+02:00 |
DateTimeOriginal (1) | 2006:08:20 05:17:08+02:00 |
DateTimeOriginal | 2006:08:20 05:17:08 |
Defringe | 0 |
Description | KONICA MINOLTA DIGITAL CAMERA |
DigitalZoomRatio | 0 |
ExifImageHeight | 2000 |
ExifImageWidth | 3008 |
Exposure | 0.00 |
ExposureCompensation | -1 |
ExposureMode | Auto |
ExposureProgram | Aperture-priority AE |
ExposureTime | 1/30 |
FillLight | 11 |
Flash | Off, Did not fire |
FlashFired | False |
FlashFunction | False |
FlashMode | Off |
FlashRedEyeMode | False |
FlashReturn | No return detection |
FNumber | 2.8 |
FocalLength | 40.0 mm |
FocalLength35efl | 40.0 mm (35 mm equivalent: 60.0 mm) |
FocalLengthIn35mmFormat | 60 mm |
Format | image/jpeg |
FOV | 33.4 deg |
GainControl | High gain up |
GreenHue | 0 |
GreenSaturation | 0 |
HasCrop | True |
HasSettings | True |
HighlightRecovery | 0 |
HueAdjustmentAqua | 0 |
HueAdjustmentBlue | 0 |
HueAdjustmentGreen | 0 |
HueAdjustmentMagenta | 0 |
HueAdjustmentOrange | 0 |
HueAdjustmentPurple | 0 |
HueAdjustmentRed | 0 |
HueAdjustmentYellow | 0 |
HyperfocalDistance | 28.53 m |
ImageDescription | KONICA MINOLTA DIGITAL CAMERA |
ImageHeight | 766 |
ImageSize | 1152x766 |
ImageWidth | 1152 |
IncrementalTemperature | -25 |
IncrementalTint | -25 |
ISO | 800 |
LightSource | Daylight |
LightValue | 4.9 |
LuminanceAdjustmentAqua | 0 |
LuminanceAdjustmentBlue | 0 |
LuminanceAdjustmentGreen | 0 |
LuminanceAdjustmentMagenta | 0 |
LuminanceAdjustmentOrange | 0 |
LuminanceAdjustmentPurple | 0 |
LuminanceAdjustmentRed | 0 |
LuminanceAdjustmentYellow | 0 |
LuminanceSmoothing | 0 |
Make | KONICA MINOLTA |
MaxApertureValue | 2.8 |
Megapixels | 0.882 |
MeteringMode | Multi-segment |
Model | DYNAX 7D |
ModifyDate (1) | 2007:09:30 14:16:11+02:00 |
ModifyDate | 2007:09:30 14:16:11 |
ParametricDarks | -6 |
ParametricHighlights | +3 |
ParametricHighlightSplit | 75 |
ParametricLights | +8 |
ParametricMidtoneSplit | 50 |
ParametricShadows | -6 |
ParametricShadowSplit | 25 |
ProfileDescription | sRGB IEC61966-2.1 |
Rating | 5 |
RedHue | 0 |
RedSaturation | 0 |
Saturation (2) | 0 |
Saturation | Normal |
SaturationAdjustmentAqua | 0 |
SaturationAdjustmentBlue | 0 |
SaturationAdjustmentGreen | 0 |
SaturationAdjustmentMagenta | 0 |
SaturationAdjustmentOrange | 0 |
SaturationAdjustmentPurple | 0 |
SaturationAdjustmentRed | 0 |
SaturationAdjustmentYellow | 0 |
ScaleFactor35efl | 1.5 |
SceneCaptureType | Standard |
Shadows | 0 |
ShadowTint | 0 |
SharpenDetail | 25 |
SharpenEdgeMasking | 0 |
SharpenRadius | +1.0 |
Sharpness (2) | 0 |
Sharpness | Hard |
ShutterSpeed | 1/30 |
ShutterSpeedValue | 1/30 |
Software | Adobe Photoshop CS2 Windows |
SplitToningBalance | 0 |
SplitToningHighlightHue | 0 |
SplitToningHighlightSaturation | 0 |
SplitToningShadowHue | 0 |
SplitToningShadowSaturation | 0 |
SubjectArea (1) | 1504, 1000, 256, 304 |
SubjectArea | 1504 1000 256 304 |
ToneCurve | 0, 0, 32, 22, 64, 56, 128, 128, 192, 196, 255, 255 |
ToneCurveName | Medium Contrast |
Version | 1.0 |
Vibrance | +2 |
VignetteAmount | 0 |
WhiteBalance (2) | Auto |
WhiteBalance | Manual |