Felt | Verdi |
AlreadyApplied | True |
Aperture | 2.8 |
ApertureValue | 2.8 |
AuthorsPosition | |
BitsPerSample | 8 |
BlueHue | 0 |
BlueSaturation | 0 |
Brightness | -16 |
By-line | Runar DamgŒrd |
CameraProfile | ACR 2.4 |
ChromaticAberrationB | 0 |
ChromaticAberrationR | 0 |
CircleOfConfusion | 0.019 mm |
ColorComponents | 3 |
ColorNoiseReduction | 25 |
ColorTemperature | 3596 |
Contrast | -50 |
ConvertToGrayscale | False |
Copyright | 2006 Runar Damgaard |
CopyrightNotice | 2006 Runar Damgaard |
CreateDate | 2006:01:20 19:37:52 |
Creator (1) | Runar DamgÂrd |
Creator | Runar Damgård |
CreatorAddress | Alvestien 5 |
CreatorCity | Kristiansand |
CreatorCountry | Norway |
CreatorPostalCode | 4638 |
CreatorTool | Adobe Photoshop Lightroom |
CreatorWorkEmail | |
CreatorWorkTelephone | +47 971 56 533 |
CreatorWorkURL | |
CustomRendered | Normal |
DateTimeDigitized | 2006:01:20 19:37:52Z |
DateTimeOriginal (1) | 2006:01:20 19:37:52Z |
DateTimeOriginal | 2006:01:20 19:37:52 |
Exposure | -1.10 |
ExposureCompensation | 0 |
ExposureMode | Auto |
ExposureProgram | Aperture-priority AE |
ExposureTime | 4 |
FillLight | 0 |
Firmware | 1.1.0 |
Flash | Off, Did not fire |
FlashCompensation | 0 |
FlashFired | False |
FlashFunction | False |
FlashMode | Off |
FlashRedEyeMode | False |
FlashReturn | No return detection |
FNumber | 2.8 |
FocalLength | 28.0 mm |
FocalLength35efl | 28.0 mm (35 mm equivalent: 44.8 mm) |
FOV | 43.7 deg |
GreenHue | 0 |
GreenSaturation | 0 |
HasCrop | False |
HasSettings | True |
HighlightRecovery | 0 |
HueAdjustmentAqua | 0 |
HueAdjustmentBlue | 0 |
HueAdjustmentGreen | 0 |
HueAdjustmentMagenta | 0 |
HueAdjustmentOrange | 0 |
HueAdjustmentPurple | 0 |
HueAdjustmentRed | 0 |
HueAdjustmentYellow | 0 |
HyperfocalDistance | 14.92 m |
ImageHeight | 567 |
ImageNumber | 194 |
ImageSize | 850x567 |
ImageWidth | 850 |
ISO | 100 |
Keywords | Berkshire, By, Byggverk, England, Kanal, Motiv, Natt, Newbury, Omgivelse, Steder, Storbritania, Tidspunkt |
Label | Yellow |
Lens | 28.0-70.0 mm |
LensInfo | 28-70mm f/? |
LightValue | 1.0 |
LuminanceAdjustmentAqua | 0 |
LuminanceAdjustmentBlue | 0 |
LuminanceAdjustmentGreen | 0 |
LuminanceAdjustmentMagenta | 0 |
LuminanceAdjustmentOrange | 0 |
LuminanceAdjustmentPurple | 0 |
LuminanceAdjustmentRed | 0 |
LuminanceAdjustmentYellow | 0 |
LuminanceSmoothing | 0 |
Make | Canon |
MaxApertureValue | 2.8 |
Megapixels | 0.482 |
MeteringMode | Multi-segment |
Model | Canon EOS 20D |
ModifyDate (1) | 2007:05:13 21:07:45+02:00 |
ModifyDate | 2007:05:13 21:07:45 |
ObjectName | nil |
OwnerName | Runar DamgÂrd |
ParametricDarks | +30 |
ParametricHighlights | -36 |
ParametricHighlightSplit | 75 |
ParametricLights | +4 |
ParametricMidtoneSplit | 50 |
ParametricShadows | +6 |
ParametricShadowSplit | 25 |
ProfileDescription | Adobe RGB (1998) |
Rating | 3 |
RedHue | 0 |
RedSaturation | 0 |
Rights | 2006 Runar Damgaard |
Saturation | 0 |
SaturationAdjustmentAqua | 0 |
SaturationAdjustmentBlue | 0 |
SaturationAdjustmentGreen | 0 |
SaturationAdjustmentMagenta | 0 |
SaturationAdjustmentOrange | 0 |
SaturationAdjustmentPurple | 0 |
SaturationAdjustmentRed | 0 |
SaturationAdjustmentYellow | 0 |
ScaleFactor35efl | 1.6 |
SceneCaptureType | Standard |
SerialNumber | 330120642 |
Shadows | 3 |
ShadowTint | 0 |
Sharpness | 25 |
ShutterSpeed | 4 |
ShutterSpeedValue | 4 |
SplitToningBalance | 0 |
SplitToningHighlightHue | 0 |
SplitToningHighlightSaturation | 0 |
SplitToningShadowHue | 0 |
SplitToningShadowSaturation | 0 |
Subject | Berkshire, By, Byggverk, England, Kanal, Motiv, Natt, Newbury, Omgivelse, Steder, Storbritania, Tidspunkt |
Tint | -3 |
Title | nil |
ToneCurve | 0, 0, 255, 255 |
ToneCurveName | Linear |
UsageTerms | nil |
Version | 1.0 |
Vibrance | +17 |
VignetteAmount | 0 |
WhiteBalance (2) | Custom |
WhiteBalance | Auto |