Felt | Verdi |
AlreadyApplied | True |
Aperture | 6.3 |
ApertureValue | 6.3 |
ApproximateFocusDistance | 7.2 |
Artist | Arne Moslaatten |
AutoLateralCA | 1 |
BitsPerSample | 8 |
Blacks2012 | +45 |
BlueHue | 0 |
BlueSaturation | 0 |
By-line | Arne Moslaatten |
CameraProfile | Adobe Standard |
CircGradBasedCorrActive | true |
CircGradBasedCorrAmount | 1.000000 |
CircGradBasedCorrBrightness | 0.000000 |
CircGradBasedCorrClarity2012 | 0.000000 |
CircGradBasedCorrContrast2012 | 0.000000 |
CircGradBasedCorrCorrectionRangeMaskColorAmount | 0.500000 |
CircGradBasedCorrCorrectionRangeMaskDepthFeather | 0.500000 |
CircGradBasedCorrCorrectionRangeMaskDepthMax | 1.000000 |
CircGradBasedCorrCorrectionRangeMaskDepthMin | 0.000000 |
CircGradBasedCorrCorrectionRangeMaskLumFeather | 0.500000 |
CircGradBasedCorrCorrectionRangeMaskLumMax | 1.000000 |
CircGradBasedCorrCorrectionRangeMaskLumMin | 0.000000 |
CircGradBasedCorrCorrectionRangeMaskType | 0 |
CircGradBasedCorrCorrectionRangeMaskVersion | +2 |
CircGradBasedCorrDefringe | 0.000000 |
CircGradBasedCorrExposure2012 | 0.000000 |
CircGradBasedCorrHighlights2012 | 0.000000 |
CircGradBasedCorrHue | 0.000000 |
CircGradBasedCorrLocalBlacks2012 | 0.000000 |
CircGradBasedCorrLocalDehaze | 0.000000 |
CircGradBasedCorrLocalTexture | 0.000000 |
CircGradBasedCorrLocalWhites2012 | 0.000000 |
CircGradBasedCorrLuminanceNoise | 0.000000 |
CircGradBasedCorrMaskAngle | 1.760940 |
CircGradBasedCorrMaskBottom | 0.702749 |
CircGradBasedCorrMaskFeather | +46 |
CircGradBasedCorrMaskFlipped | true |
CircGradBasedCorrMaskLeft | 0.303572 |
CircGradBasedCorrMaskMidpoint | +50 |
CircGradBasedCorrMaskRight | 0.967371 |
CircGradBasedCorrMaskRoundness | 0 |
CircGradBasedCorrMaskTop | 0.435857 |
CircGradBasedCorrMaskValue | 1.000000 |
CircGradBasedCorrMaskVersion | +2 |
CircGradBasedCorrMaskWhat | Mask/CircularGradient |
CircGradBasedCorrMoire | 0.000000 |
CircGradBasedCorrSaturation | 0.000000 |
CircGradBasedCorrShadows2012 | 0.000000 |
CircGradBasedCorrSharpness | 0.000000 |
CircGradBasedCorrTemperature | 0.450457 |
CircGradBasedCorrTint | 0.484470 |
CircGradBasedCorrWhat | Correction |
CircleOfConfusion | 0.011 mm |
Clarity2012 | 0 |
ColorComponents | 3 |
ColorNoiseReduction | 25 |
ColorNoiseReductionDetail | 50 |
ColorNoiseReductionSmoothness | 50 |
ColorSpace | sRGB |
ColorTemperature | 5500 |
ColorTransform | YCbCr |
Contrast2012 | 0 |
ConvertToGrayscale | False |
Copyright | @2014 |
CopyrightNotice | @2014 |
CreateDate (1) | 2019:07:17 21:14:38.41 |
CreateDate | 2019:07:17 21:14:38 |
Creator | Arne Moslaatten |
CreatorTool | Adobe Lightroom 2.3 (Macintosh) |
CropAngle | 1.295 |
CropBottom | 0.874753 |
CropConstrainToWarp | 0 |
CropLeft | 0.04263 |
CropRight | 0.965564 |
CropTop | 0.056113 |
CustomRendered | Normal |
DateCreated (1) | 2019:07:17 |
DateCreated | 2019:07:17 21:14:38.41 |
DateTimeOriginal | 2019:07:17 21:14:38 |
DefringeGreenAmount | 0 |
DefringeGreenHueHi | 60 |
DefringeGreenHueLo | 40 |
DefringePurpleAmount | 0 |
DefringePurpleHueHi | 70 |
DefringePurpleHueLo | 30 |
Dehaze | 0 |
DistortionCorrectionAlreadyApplied | True |
DOF | 10.92 m (4.68 - 15.60 m) |
Exposure2012 | -0.90 |
ExposureCompensation | 0 |
ExposureMode | Auto |
ExposureProgram | Aperture-priority AE |
ExposureTime | 1/160 |
Firmware | 1.1.3 |
Flash | Off, Did not fire |
FlashCompensation | 0 |
FNumber | 6.3 |
FocalLength | 30.0 mm |
FocalLength35efl | 30.0 mm (35 mm equivalent: 84.0 mm) |
Format | image/jpeg |
FOV | 24.2 deg |
GradientBasedCorrActive | true |
GradientBasedCorrAmount | 1.000000 |
GradientBasedCorrBrightness | 0.000000 |
GradientBasedCorrClarity2012 | 0.000000 |
GradientBasedCorrContrast2012 | 0.000000 |
GradientBasedCorrCorrectionRangeMaskColorAmount | 0.500000 |
GradientBasedCorrCorrectionRangeMaskDepthFeather | 0.500000 |
GradientBasedCorrCorrectionRangeMaskDepthMax | 1.000000 |
GradientBasedCorrCorrectionRangeMaskDepthMin | 0.000000 |
GradientBasedCorrCorrectionRangeMaskLumFeather | 0.500000 |
GradientBasedCorrCorrectionRangeMaskLumMax | 1.000000 |
GradientBasedCorrCorrectionRangeMaskLumMin | 0.000000 |
GradientBasedCorrCorrectionRangeMaskType | 0 |
GradientBasedCorrCorrectionRangeMaskVersion | +2 |
GradientBasedCorrDefringe | 0.000000 |
GradientBasedCorrExposure2012 (1) | -0.252763 |
GradientBasedCorrExposure2012 | -0.299293 |
GradientBasedCorrHighlights2012 | 0.000000 |
GradientBasedCorrHue | 0.000000 |
GradientBasedCorrLocalBlacks2012 | 0.000000 |
GradientBasedCorrLocalDehaze | 0.000000 |
GradientBasedCorrLocalTexture | 0.000000 |
GradientBasedCorrLocalWhites2012 | 0.000000 |
GradientBasedCorrLuminanceNoise | 0.000000 |
GradientBasedCorrMaskFullX (1) | 0.457124 |
GradientBasedCorrMaskFullX | 0.501467 |
GradientBasedCorrMaskFullY (1) | 0.019779 |
GradientBasedCorrMaskFullY | 0.998971 |
GradientBasedCorrMaskValue | 1.000000 |
GradientBasedCorrMaskWhat | Mask/Gradient |
GradientBasedCorrMaskZeroX (1) | 0.448894 |
GradientBasedCorrMaskZeroX | 0.501662 |
GradientBasedCorrMaskZeroY (1) | 0.596720 |
GradientBasedCorrMaskZeroY | 0.863964 |
GradientBasedCorrMoire | 0.000000 |
GradientBasedCorrSaturation | 0.000000 |
GradientBasedCorrShadows2012 | 0.000000 |
GradientBasedCorrSharpness | 0.000000 |
GradientBasedCorrTemperature (1) | -0.282298 |
GradientBasedCorrTemperature | 0.000000 |
GradientBasedCorrTint | 0.000000 |
GradientBasedCorrWhat | Correction |
GrainAmount | 0 |
GreenHue | 0 |
GreenSaturation | 0 |
HasCrop | True |
HasSettings | True |
Highlights2012 | 0 |
HueAdjustmentAqua | 0 |
HueAdjustmentBlue | 0 |
HueAdjustmentGreen | 0 |
HueAdjustmentMagenta | 0 |
HueAdjustmentOrange | 0 |
HueAdjustmentPurple | 0 |
HueAdjustmentRed | 0 |
HueAdjustmentYellow | 0 |
HyperfocalDistance | 13.31 m |
ImageHeight | 1150 |
ImageNumber | 0 |
ImageSize | 2048x1150 |
ImageWidth | 2048 |
ISO | 160 |
LateralChromaticAberrationCorrectionAlreadyApplied | True |
Lens | 24-70mm |
LensID (1) | 137 |
LensID | Sigma 24-70mm f/2.8 IF EX DG HSM or Tamron SP 24-70mm f/2.8 Di VC USD |
LensInfo | 24-70mm f/? |
LensManualDistortionAmount | 0 |
LensModel | 24-70mm |
LensProfileChromaticAberrationScale | 100 |
LensProfileDistortionScale | 100 |
LensProfileEnable | 1 |
LensProfileFilename | Canon (Sigma_24-70mm_F2.8_IF_EX_DG_HSM ) - RAW.lcp |
LensProfileName | Adobe (SIGMA 24-70mm F2.8 IF EX DG HSM, Canon) |
LensProfileSetup | LensDefaults |
LensProfileVignettingScale | 100 |
LensSerialNumber | 0000000000 |
LightValue | 12.0 |
LookName | |
LuminanceAdjustmentAqua | 0 |
LuminanceAdjustmentBlue | 0 |
LuminanceAdjustmentGreen | 0 |
LuminanceAdjustmentMagenta | 0 |
LuminanceAdjustmentOrange | 0 |
LuminanceAdjustmentPurple | 0 |
LuminanceAdjustmentRed | 0 |
LuminanceAdjustmentYellow | 0 |
LuminanceNoiseReductionContrast | 0 |
LuminanceNoiseReductionDetail | 50 |
LuminanceSmoothing | 29 |
Make | Canon |
MaxApertureValue | 2.8 |
Megapixels | 2.4 |
MeteringMode | Multi-segment |
Model | Canon EOS 6D |
ModifyDate (1) | 2019:07:29 21:51:00+02:00 |
ModifyDate | 2019:07:29 21:51:00 |
OverrideLookVignette | False |
ParametricDarks | 0 |
ParametricHighlights | 0 |
ParametricHighlightSplit | 75 |
ParametricLights | 0 |
ParametricMidtoneSplit | 50 |
ParametricShadows | 0 |
ParametricShadowSplit | 25 |
PerspectiveAspect | 0 |
PerspectiveHorizontal | 0 |
PerspectiveRotate | 0.0 |
PerspectiveScale | 100 |
PerspectiveUpright | 0 |
PerspectiveVertical | 0 |
PerspectiveX | 0.00 |
PerspectiveY | 0.00 |
PostCropVignetteAmount | 0 |
ProcessVersion | 11.0 |
ProfileDescription | sRGB IEC61966-2.1 |
Rating | 3 |
RawFileName | IMG_0029.CR2 |
RecommendedExposureIndex | 160 |
RedHue | 0 |
RedSaturation | 0 |
Rights | @2014 |
Saturation | +12 |
SaturationAdjustmentAqua | 0 |
SaturationAdjustmentBlue | 0 |
SaturationAdjustmentGreen | 0 |
SaturationAdjustmentMagenta | 0 |
SaturationAdjustmentOrange | 0 |
SaturationAdjustmentPurple | 0 |
SaturationAdjustmentRed | 0 |
SaturationAdjustmentYellow | 0 |
ScaleFactor35efl | 2.8 |
SceneCaptureType | Standard |
SensitivityType | Recommended Exposure Index |
SerialNumber | 113025002429 |
Shadows2012 | +100 |
ShadowTint | 0 |
SharpenDetail | 25 |
SharpenEdgeMasking | 67 |
SharpenRadius | +1.0 |
Sharpness | 108 |
ShutterSpeed | 1/160 |
ShutterSpeedValue | 1/160 |
Software | Adobe Lightroom 2.3 (Macintosh) |
SplitToningBalance | 0 |
SplitToningHighlightHue | 0 |
SplitToningHighlightSaturation | 0 |
SplitToningShadowHue | 0 |
SplitToningShadowSaturation | 0 |
Texture | 0 |
Tint | +1 |
ToneCurve | 0, 0, 255, 255 |
ToneCurveBlue | 0, 0, 255, 255 |
ToneCurveGreen | 0, 0, 255, 255 |
ToneCurveName | Linear |
ToneCurveName2012 | Linear |
ToneCurvePV2012 | 0, 0, 255, 255 |
ToneCurvePV2012Blue | 0, 0, 255, 255 |
ToneCurvePV2012Green | 0, 0, 255, 255 |
ToneCurvePV2012Red | 0, 0, 255, 255 |
ToneCurveRed | 0, 0, 255, 255 |
ToneMapStrength | 0 |
Version | 11.3 |
Vibrance | +60 |
VignetteAmount | 0 |
VignetteCorrectionAlreadyApplied | True |
WhiteBalance (1) | As Shot |
WhiteBalance | Auto |
Whites2012 | -100 |