Felt | Verdi |
AlreadyApplied | True |
Aperture | 1.8 |
ApertureValue | 1.8 |
ApproximateFocusDistance | 4294967295 |
AutoLateralCA | 1 |
BitsPerSample | 8 |
Blacks2012 | -4 |
BlueHue | 0 |
BlueSaturation | 0 |
CameraProfile | Adobe Standard |
CFAPattern | [Red,Green][Green,Blue] |
CircleOfConfusion | 0.030 mm |
Clarity2012 | +30 |
ColorComponents | 3 |
ColorNoiseReduction | 25 |
ColorNoiseReductionDetail | 50 |
ColorNoiseReductionSmoothness | 50 |
ColorSpace | sRGB |
ColorTemperature | 3598 |
ColorTransform | YCbCr |
Contrast | Normal |
Contrast2012 | +41 |
ConvertToGrayscale | False |
Copyright | MKalve |
CopyrightNotice | MKalve |
CreateDate (1) | 2018:10:06 22:54:56.38 |
CreateDate | 2018:10:06 22:54:56 |
CreatorTool | Adobe Lightroom CC 1.5 (Windows) |
CropAngle | 1.31 |
CropBottom | 0.994718 |
CropConstrainToWarp | 0 |
CropLeft | 0.028969 |
CropRight | 0.971031 |
CropTop | 0.005282 |
CustomRendered | Normal |
DateCreated (1) | 2018:10:06 |
DateCreated | 2018:10:06 22:54:56.38 |
DateTimeOriginal | 2018:10:06 22:54:56 |
DefringeGreenAmount | 0 |
DefringeGreenHueHi | 60 |
DefringeGreenHueLo | 40 |
DefringePurpleAmount | 0 |
DefringePurpleHueHi | 70 |
DefringePurpleHueLo | 30 |
Dehaze | +49 |
DigitalZoomRatio | 1 |
DistortionCorrectionAlreadyApplied | True |
DOF | inf (10.65 m - inf) |
Exposure2012 | -0.10 |
ExposureCompensation | 0 |
ExposureMode | Manual |
ExposureProgram | Manual |
ExposureTime | 10 |
Flash | Off, Did not fire |
FNumber | 1.8 |
FocalLength | 24.0 mm |
FocalLength35efl | 24.0 mm (35 mm equivalent: 24.0 mm) |
FocalLengthIn35mmFormat | 24 mm |
Format | image/jpeg |
FOV | 73.7 deg |
GainControl | High gain up |
GradientBasedCorrActive | true |
GradientBasedCorrAmount | 1.000000 |
GradientBasedCorrBrightness | 0.000000 |
GradientBasedCorrClarity2012 (1) | -0.039024 |
GradientBasedCorrClarity2012 | 0.000000 |
GradientBasedCorrContrast2012 (1) | -0.107317 |
GradientBasedCorrContrast2012 | 0.000000 |
GradientBasedCorrCorrectionRangeMaskColorAmount | 0.500000 |
GradientBasedCorrCorrectionRangeMaskLumFeather | 0.500000 |
GradientBasedCorrCorrectionRangeMaskLumMax | 1.000000 |
GradientBasedCorrCorrectionRangeMaskLumMin | 0.000000 |
GradientBasedCorrCorrectionRangeMaskType | 0 |
GradientBasedCorrCorrectionRangeMaskVersion | +2 |
GradientBasedCorrDefringe | 0.000000 |
GradientBasedCorrExposure2012 (1) | 0.000000 |
GradientBasedCorrExposure2012 (2) | -0.140000 |
GradientBasedCorrExposure2012 | -0.370000 |
GradientBasedCorrHighlights2012 | 0.000000 |
GradientBasedCorrHue | 0.000000 |
GradientBasedCorrLocalBlacks2012 (1) | -0.097561 |
GradientBasedCorrLocalBlacks2012 | 0.068293 |
GradientBasedCorrLocalDehaze | -0.107317 |
GradientBasedCorrLocalWhites2012 (2) | -1.000000 |
GradientBasedCorrLocalWhites2012 | 0.000000 |
GradientBasedCorrLuminanceNoise | 0.419512 |
GradientBasedCorrMaskFullX (1) | 0.472926 |
GradientBasedCorrMaskFullX (2) | 0.885747 |
GradientBasedCorrMaskFullX | 0.062976 |
GradientBasedCorrMaskFullY (1) | 0.835991 |
GradientBasedCorrMaskFullY (2) | 0.985758 |
GradientBasedCorrMaskFullY | 0.923489 |
GradientBasedCorrMaskValue | 1.000000 |
GradientBasedCorrMaskWhat | Mask/Gradient |
GradientBasedCorrMaskZeroX (1) | 0.473321 |
GradientBasedCorrMaskZeroX (2) | 0.881638 |
GradientBasedCorrMaskZeroX | 0.087907 |
GradientBasedCorrMaskZeroY (1) | 0.723840 |
GradientBasedCorrMaskZeroY (2) | 0.879400 |
GradientBasedCorrMaskZeroY | 0.833352 |
GradientBasedCorrMoire | 0.000000 |
GradientBasedCorrSaturation (1) | 0.019512 |
GradientBasedCorrSaturation (5) | -0.302439 |
GradientBasedCorrSaturation | 0.000000 |
GradientBasedCorrShadows2012 (1) | 0.239024 |
GradientBasedCorrShadows2012 (2) | -0.175610 |
GradientBasedCorrShadows2012 | 0.204878 |
GradientBasedCorrSharpness | 0.000000 |
GradientBasedCorrTemperature | 0.000000 |
GradientBasedCorrTint (1) | -0.107317 |
GradientBasedCorrTint | -0.458537 |
GradientBasedCorrWhat | Correction |
GrainAmount | 0 |
GreenHue | 0 |
GreenSaturation | 0 |
HasCrop | True |
HasSettings | True |
Highlights2012 | +24 |
HueAdjustmentAqua | 0 |
HueAdjustmentBlue | 0 |
HueAdjustmentGreen | 0 |
HueAdjustmentMagenta | 0 |
HueAdjustmentOrange | 0 |
HueAdjustmentPurple | 0 |
HueAdjustmentRed | 0 |
HueAdjustmentYellow | 0 |
HyperfocalDistance | 10.65 m |
ImageHeight | 3843 |
ImageNumber | 2464 |
ImageSize | 5757x3843 |
ImageWidth | 5757 |
ISO | 12800 |
LateralChromaticAberrationCorrectionAlreadyApplied | True |
Lens | 24.0 mm f/1.8 |
LensID (1) | 225 |
LensID | Sigma 24mm F1.8 EX DG Aspherical Macro |
LensInfo | 24mm f/1.8 |
LensManualDistortionAmount | 0 |
LensModel | 24.0 mm f/1.8 |
LensProfileChromaticAberrationScale | 100 |
LensProfileDistortionScale | 100 |
LensProfileEnable | 1 |
LensProfileFilename | NIKON CORPORATION (Sigma_24mm_F1.8_EX_DG_AS_MACRO ) - RAW.lcp |
LensProfileName | Adobe (SIGMA 24mm F1.8 EX DG ASPHERICAL MACRO, NIKON CORPORATION) |
LensProfileSetup | Custom |
LensProfileVignettingScale | 100 |
LightSource | Unknown |
LightValue | -8.6 |
LookAmount | 1.000000 |
LookGroup | Profiles |
LookName | Adobe Landscape |
LookParametersCameraProfile | Adobe Standard |
LookParametersClarity2012 | +10 |
LookParametersConvertToGrayscale | False |
LookParametersHighlights2012 | -12 |
LookParametersLookTable | 0B3BFB5CFB7DBF7FF175E98F24D316B0 |
LookParametersProcessVersion | 10.0 |
LookParametersShadows2012 | +12 |
LookParametersToneCurvePV2012 | 0, 0, 64, 60, 128, 128, 192, 196, 255, 255 |
LookParametersVersion | 10.5 |
LookSupportsAmount | false |
LookSupportsMonochrome | false |
LookSupportsOutputReferred | false |
LuminanceAdjustmentAqua | 0 |
LuminanceAdjustmentBlue | 0 |
LuminanceAdjustmentGreen | 0 |
LuminanceAdjustmentMagenta | 0 |
LuminanceAdjustmentOrange | 0 |
LuminanceAdjustmentPurple | 0 |
LuminanceAdjustmentRed | 0 |
LuminanceAdjustmentYellow | 0 |
LuminanceNoiseReductionContrast | 20 |
LuminanceNoiseReductionDetail | 50 |
LuminanceSmoothing | 41 |
Make | NIKON CORPORATION |
MaxApertureValue | 1.7 |
Megapixels | 22.1 |
MeteringMode | Multi-segment |
Model | NIKON D750 |
ModifyDate (1) | 2018:10:07 19:35:38+02:00 |
ModifyDate | 2018:10:07 19:35:38 |
OverrideLookVignette | False |
PaintCorrectionActive | true |
PaintCorrectionAmount | 1.000000 |
PaintCorrectionBrightness | 0.000000 |
PaintCorrectionClarity2012 | 0.000000 |
PaintCorrectionContrast2012 (1) | 0.209757 |
PaintCorrectionContrast2012 | 0.204878 |
PaintCorrectionCorrectionRangeMaskColorAmount | 0.500000 |
PaintCorrectionCorrectionRangeMaskLumFeather | 0.500000 |
PaintCorrectionCorrectionRangeMaskLumMax | 1.000000 |
PaintCorrectionCorrectionRangeMaskLumMin | 0.000000 |
PaintCorrectionCorrectionRangeMaskType | 0 |
PaintCorrectionCorrectionRangeMaskVersion | +2 |
PaintCorrectionDefringe | 0.000000 |
PaintCorrectionExposure2012 | 0.000000 |
PaintCorrectionHighlights2012 | 0.000000 |
PaintCorrectionHue | 0.000000 |
PaintCorrectionLocalBlacks2012 (1) | 0.000000 |
PaintCorrectionLocalBlacks2012 | -0.443902 |
PaintCorrectionLocalDehaze | 0.000000 |
PaintCorrectionLocalWhites2012 (1) | 0.531707 |
PaintCorrectionLocalWhites2012 | 0.000000 |
PaintCorrectionLuminanceNoise | 0.000000 |
PaintCorrectionMaskCenterWeight | 0.000000 |
PaintCorrectionMaskFlow | 0.100000 |
PaintCorrectionMaskRadius (1) | 0.041668 |
PaintCorrectionMaskRadius (10) | 0.041617 |
PaintCorrectionMaskRadius (11) | 0.041631 |
PaintCorrectionMaskRadius (12) | 0.041536 |
PaintCorrectionMaskRadius (13) | 0.041323 |
PaintCorrectionMaskRadius (14) | 0.031598 |
PaintCorrectionMaskRadius (15) | 0.030987 |
PaintCorrectionMaskRadius (16) | 0.031750 |
PaintCorrectionMaskRadius (17) | 0.031432 |
PaintCorrectionMaskRadius (18) | 0.031679 |
PaintCorrectionMaskRadius (19) | 0.031585 |
PaintCorrectionMaskRadius (2) | 0.041659 |
PaintCorrectionMaskRadius (20) | 0.031807 |
PaintCorrectionMaskRadius (21) | 0.031563 |
PaintCorrectionMaskRadius (22) | 0.031866 |
PaintCorrectionMaskRadius (23) | 0.031898 |
PaintCorrectionMaskRadius (24) | 0.031910 |
PaintCorrectionMaskRadius (25) | 0.031891 |
PaintCorrectionMaskRadius (26) | 0.031856 |
PaintCorrectionMaskRadius (27) | 0.031876 |
PaintCorrectionMaskRadius (28) | 0.031889 |
PaintCorrectionMaskRadius (29) | 0.031700 |
PaintCorrectionMaskRadius (3) | 0.041422 |
PaintCorrectionMaskRadius (30) | 0.031438 |
PaintCorrectionMaskRadius (31) | 0.030985 |
PaintCorrectionMaskRadius (32) | 0.031308 |
PaintCorrectionMaskRadius (33) | 0.031551 |
PaintCorrectionMaskRadius (35) | 0.031374 |
PaintCorrectionMaskRadius (36) | 0.031444 |
PaintCorrectionMaskRadius (37) | 0.031581 |
PaintCorrectionMaskRadius (4) | 0.040672 |
PaintCorrectionMaskRadius (5) | 0.041221 |
PaintCorrectionMaskRadius (6) | 0.041624 |
PaintCorrectionMaskRadius (7) | 0.041642 |
PaintCorrectionMaskRadius (8) | 0.041166 |
PaintCorrectionMaskRadius (9) | 0.041263 |
PaintCorrectionMaskRadius | 0.031761 |
PaintCorrectionMaskValue | 1.000000 |
PaintCorrectionMaskWhat | Mask/Paint |
PaintCorrectionMoire | 0.000000 |
PaintCorrectionSaturation | 0.000000 |
PaintCorrectionShadows2012 | 0.000000 |
PaintCorrectionSharpness | 0.000000 |
PaintCorrectionTemperature | 0.000000 |
PaintCorrectionTint | 0.000000 |
PaintCorrectionWhat | Correction |
ParametricDarks | 0 |
ParametricHighlights | 0 |
ParametricHighlightSplit | 75 |
ParametricLights | 0 |
ParametricMidtoneSplit | 50 |
ParametricShadows | 0 |
ParametricShadowSplit | 25 |
PerspectiveAspect | 0 |
PerspectiveHorizontal | 0 |
PerspectiveRotate | 0.0 |
PerspectiveScale | 100 |
PerspectiveUpright | 0 |
PerspectiveVertical | 0 |
PerspectiveX | 0.00 |
PerspectiveY | 0.00 |
PostCropVignetteAmount | 0 |
ProcessVersion | 10.0 |
ProfileDescription | sRGB IEC61966-2.1 |
RawFileName | MOK_2414.NEF |
RedHue | 0 |
RedSaturation | 0 |
Rights | MKalve |
Saturation (1) | 0 |
Saturation | Normal |
SaturationAdjustmentAqua | +7 |
SaturationAdjustmentBlue | +20 |
SaturationAdjustmentGreen | +9 |
SaturationAdjustmentMagenta | +5 |
SaturationAdjustmentOrange | -11 |
SaturationAdjustmentPurple | +26 |
SaturationAdjustmentRed | -14 |
SaturationAdjustmentYellow | -16 |
ScaleFactor35efl | 1.0 |
SceneCaptureType | Standard |
SceneType | Directly photographed |
SensingMethod | One-chip color area |
SensitivityType | Recommended Exposure Index |
SerialNumber | 6165137 |
Shadows2012 | +10 |
ShadowTint | 0 |
SharpenDetail | 25 |
SharpenEdgeMasking | 0 |
SharpenRadius | +1.0 |
Sharpness (1) | 30 |
Sharpness | Soft |
ShutterSpeed | 10 |
ShutterSpeedValue | 10 |
Software | Adobe Lightroom CC 1.5 (Windows) |
SplitToningBalance | 0 |
SplitToningHighlightHue | 0 |
SplitToningHighlightSaturation | 0 |
SplitToningShadowHue | 0 |
SplitToningShadowSaturation | 0 |
SubjectDistanceRange | Unknown |
Tint | +19 |
ToneCurve | 0, 0, 255, 255 |
ToneCurveBlue | 0, 0, 255, 255 |
ToneCurveGreen | 0, 0, 255, 255 |
ToneCurveName | Linear |
ToneCurveName2012 | Linear |
ToneCurvePV2012 | 0, 0, 255, 255 |
ToneCurvePV2012Blue | 0, 0, 255, 255 |
ToneCurvePV2012Green | 0, 0, 255, 255 |
ToneCurvePV2012Red | 0, 0, 255, 255 |
ToneCurveRed | 0, 0, 255, 255 |
ToneMapStrength | 0 |
Version | 10.5 |
Vibrance | 0 |
VignetteAmount | 0 |
VignetteCorrectionAlreadyApplied | True |
WhiteBalance (1) | Custom |
WhiteBalance | Auto |
Whites2012 | +31 |