Felt | Verdi |
AlreadyApplied | True |
Aperture | 1.8 |
ApertureValue | 1.8 |
ApproximateFocusDistance | 5.59 |
AutoLateralCA | 0 |
AutoWhiteVersion | 134348800 |
BitsPerSample | 8 |
Blacks2012 | -31 |
BlueHue | 0 |
BlueSaturation | 0 |
CameraProfile | Embedded |
Caption-Abstract | OLYMPUS DIGITAL CAMERA |
CircleOfConfusion | 0.015 mm |
Clarity2012 | -37 |
ColorComponents | 3 |
ColorNoiseReduction | 25 |
ColorNoiseReductionDetail | 50 |
ColorNoiseReductionSmoothness | 50 |
ColorTransform | YCbCr |
Contrast | Normal |
Contrast2012 | +6 |
ConvertToGrayscale | True |
CreateDate | 2015:05:01 12:47:22 |
CreatorTool | Adobe Photoshop Lightroom 6.1 (Macintosh) |
CropAngle | 0 |
CropBottom | 0.854611 |
CropConstrainToWarp | 0 |
CropLeft | 0 |
CropRight | 0.823378 |
CropTop | 0.012168 |
CustomRendered | Normal |
DateCreated (1) | 2015:05:01 12:47:22 |
DateCreated | 2015:05:01 |
DateTimeOriginal | 2015:05:01 12:47:22 |
Dehaze | 0 |
Description | OLYMPUS DIGITAL CAMERA |
DigitalZoomRatio | 1 |
DOF | 0.83 m (5.20 - 6.04 m) |
Exposure2012 | +0.35 |
ExposureCompensation | 0 |
ExposureMode | Auto |
ExposureProgram | Aperture-priority AE |
ExposureTime | 1/4000 |
Flash | Auto, Did not fire |
FlashCompensation | 0 |
FNumber | 1.8 |
FocalLength | 45.0 mm |
FocalLength35efl | 45.0 mm (35 mm equivalent: 90.0 mm) |
FocalLengthIn35mmFormat | 90 mm |
Format | image/jpeg |
FOV | 22.6 deg |
GainControl | Low gain up |
GrainAmount | 40 |
GrainFrequency | 50 |
GrainSize | 25 |
GrayMixerAqua | -19 |
GrayMixerBlue | +8 |
GrayMixerGreen | -25 |
GrayMixerMagenta | +4 |
GrayMixerOrange | -17 |
GrayMixerPurple | +14 |
GrayMixerRed | -8 |
GrayMixerYellow | -20 |
GreenHue | 0 |
GreenSaturation | 0 |
HasCrop | True |
HasSettings | True |
Highlights2012 | -8 |
HyperfocalDistance | 74.88 m |
ImageDescription | OLYMPUS DIGITAL CAMERA |
ImageHeight | 2362 |
ImageSize | 2953x2362 |
ImageWidth | 2953 |
IncrementalTemperature | 0 |
IncrementalTint | 0 |
ISO | 160 |
Keywords | HIOA, OSLO, gammel mann liten gutt, kolonihagen, vår15 |
LateralChromaticAberrationCorrectionAlreadyApplied | True |
Lens | OLYMPUS M.45mm F1.8 |
LensInfo | 45mm f/1.8 |
LensManualDistortionAmount | 0 |
LensModel | OLYMPUS M.45mm F1.8 |
LensProfileEnable | 0 |
LensProfileSetup | LensDefaults |
LensSerialNumber | ABMA04549 |
LightSource | Unknown |
LightValue | 13.0 |
LuminanceNoiseReductionContrast | 0 |
LuminanceNoiseReductionDetail | 50 |
LuminanceSmoothing | 9 |
Make | OLYMPUS IMAGING CORP. |
MaxApertureValue | 1.8 |
Megapixels | 7.0 |
MeteringMode | Multi-segment |
Model | E-M10 |
ModifyDate (1) | 2015:09:04 23:00:54+02:00 |
ModifyDate | 2015:09:04 23:00:54 |
Orientation | Horizontal (normal) |
ParametricDarks | 0 |
ParametricHighlights | 0 |
ParametricHighlightSplit | 75 |
ParametricLights | 0 |
ParametricMidtoneSplit | 50 |
ParametricShadows | 0 |
ParametricShadowSplit | 25 |
PerspectiveAspect | 0 |
PerspectiveHorizontal | 0 |
PerspectiveRotate | 0.0 |
PerspectiveScale | 100 |
PerspectiveUpright | 0 |
PerspectiveVertical | 0 |
PostCropVignetteAmount | -35 |
PostCropVignetteFeather | 50 |
PostCropVignetteHighlightContrast | 0 |
PostCropVignetteMidpoint | 50 |
PostCropVignetteRoundness | 0 |
PostCropVignetteStyle | 1 |
ProcessVersion | 6.7 |
ProfileDescription | sRGB IEC61966-2.1 |
Rating | 5 |
RawFileName | memories (1 of 1).jpg |
RedHue | 0 |
RedSaturation | 0 |
Saturation | Normal |
ScaleFactor35efl | 2.0 |
SceneCaptureType | Standard |
SensitivityType | Standard Output Sensitivity |
SerialNumber | V5PF77917 |
Shadows2012 | -45 |
ShadowTint | 0 |
SharpenDetail | 25 |
SharpenEdgeMasking | 0 |
SharpenRadius | +1.0 |
Sharpness (1) | 25 |
Sharpness | Normal |
ShutterSpeed | 1/4000 |
ShutterSpeedValue | 1/4000 |
Software | Adobe Photoshop Lightroom 6.1 (Macintosh) |
SplitToningBalance | 0 |
SplitToningHighlightHue | 0 |
SplitToningHighlightSaturation | 0 |
SplitToningShadowHue | 0 |
SplitToningShadowSaturation | 0 |
Subject | HIOA, OSLO, gammel mann liten gutt, kolonihagen, vår15 |
ToneCurve | 0, 0, 255, 255 |
ToneCurveBlue | 0, 0, 255, 255 |
ToneCurveGreen | 0, 0, 255, 255 |
ToneCurveName | Linear |
ToneCurveName2012 | Medium Contrast |
ToneCurvePV2012 | 0, 0, 32, 22, 64, 56, 128, 128, 192, 196, 255, 255 |
ToneCurvePV2012Blue | 0, 0, 255, 255 |
ToneCurvePV2012Green | 0, 0, 255, 255 |
ToneCurvePV2012Red | 0, 0, 255, 255 |
ToneCurveRed | 0, 0, 255, 255 |
ToneMapStrength | 0 |
Version | 9.1 |
VignetteAmount | 0 |
WhiteBalance (1) | As Shot |
WhiteBalance | Auto |
Whites2012 | -30 |