Felt | Verdi |
AlreadyApplied | True |
Aperture | 7.1 |
ApertureValue | 7.1 |
ApproximateFocusDistance | 23.8 |
Artist | Geir Manshaus |
AutoLateralCA | 0 |
AutoWhiteVersion | 134348800 |
BitsPerSample | 8 |
Blacks2012 | +30 |
BlueHue | 0 |
BlueSaturation | 0 |
By-line | Geir Manshaus |
CameraProfile | Adobe Standard |
CircleOfConfusion | 0.006 mm |
Clarity2012 | 0 |
ColorComponents | 3 |
ColorNoiseReduction | 25 |
ColorNoiseReductionDetail | 50 |
ColorNoiseReductionSmoothness | 50 |
ColorTemperature | 5500 |
ColorTransform | YCbCr |
Contrast2012 | 0 |
ConvertToGrayscale | False |
Copyright | Geir Manshaus |
CopyrightFlag | True |
CopyrightNotice | Geir Manshaus |
CreateDate (1) | 2015:08:16 14:07:32.93 |
CreateDate | 2015:08:16 14:07:32 |
Creator | Geir Manshaus |
CreatorAddress | Sons gate 25 |
CreatorCountry | Norge-Norway- |
CreatorPostalCode | 0654 |
CreatorRegion | Oslo |
CreatorTool | Adobe Photoshop Lightroom 5.7 (Windows) |
CreatorWorkEmail | geirhandyman@hotmail.com |
CreatorWorkTelephone | 0047 97 68 29 88 |
CropAngle | 0 |
CropBottom | 0.589042 |
CropConstrainToWarp | 0 |
CropLeft | 0.348554 |
CropRight | 0.634704 |
CropTop | 0.296804 |
CustomRendered | Normal |
DateCreated (1) | 2015:08:16 |
DateCreated | 2015:08:16 14:07:32.93 |
DateTimeOriginal | 2015:08:16 14:07:32 |
DefringeGreenAmount | 0 |
DefringeGreenHueHi | 60 |
DefringeGreenHueLo | 40 |
DefringePurpleAmount | 0 |
DefringePurpleHueHi | 70 |
DefringePurpleHueLo | 30 |
Director | Geir Manshaus |
DOF | 0.91 m (23.35 - 24.26 m) |
Exposure2012 | 0.00 |
ExposureCompensation | 0 |
ExposureMode | Manual |
ExposureProgram | Manual |
ExposureTime | 1/3200 |
Firmware | 1.3.3 |
Flash | Off, Did not fire |
FlashCompensation | 0 |
FNumber | 7.1 |
FocalLength | 235.0 mm |
FocalLength35efl | 235.0 mm (35 mm equivalent: 1120.6 mm) |
Format | image/jpeg |
FOV | 1.8 deg |
GrainAmount | 0 |
GreenHue | 0 |
GreenSaturation | 0 |
HasCrop | True |
HasSettings | True |
Highlights2012 | -20 |
HueAdjustmentAqua | 0 |
HueAdjustmentBlue | 0 |
HueAdjustmentGreen | 0 |
HueAdjustmentMagenta | 0 |
HueAdjustmentOrange | 0 |
HueAdjustmentPurple | 0 |
HueAdjustmentRed | 0 |
HueAdjustmentYellow | 0 |
HyperfocalDistance | 1234.46 m |
ImageHeight | 817 |
ImageNumber | 0 |
ImageSize | 1200x817 |
ImageWidth | 1200 |
ISO | 2000 |
Keywords | Østensjø 5d3 |
Lens | EF70-200mm f/2.8L IS II USM +1.4x III |
LensID (1) | 252 |
LensID | Canon EF 70-200mm f/2.8L IS II USM + 1.4x |
LensInfo | 98-280mm f/? |
LensManualDistortionAmount | 0 |
LensModel | EF70-200mm f/2.8L IS II USM +1.4x III |
LensProfileEnable | 0 |
LensProfileSetup | LensDefaults |
LensSerialNumber | 000040a019 |
LightValue | 13.0 |
LuminanceAdjustmentAqua | 0 |
LuminanceAdjustmentBlue | 0 |
LuminanceAdjustmentGreen | 0 |
LuminanceAdjustmentMagenta | 0 |
LuminanceAdjustmentOrange | 0 |
LuminanceAdjustmentPurple | 0 |
LuminanceAdjustmentRed | 0 |
LuminanceAdjustmentYellow | 0 |
LuminanceSmoothing | 0 |
Make | Canon |
Marked | True |
MaxApertureValue | 4.0 |
Megapixels | 0.980 |
MeteringMode | Spot |
Model | Canon EOS 5D Mark III |
ModifyDate (1) | 2015:08:16 16:31:11+02:00 |
ModifyDate | 2015:08:16 16:31:11 |
ParametricDarks | +3 |
ParametricHighlights | -19 |
ParametricHighlightSplit | 75 |
ParametricLights | -16 |
ParametricMidtoneSplit | 50 |
ParametricShadows | +13 |
ParametricShadowSplit | 25 |
PerspectiveAspect | 0 |
PerspectiveHorizontal | 0 |
PerspectiveRotate | 0.0 |
PerspectiveScale | 100 |
PerspectiveUpright | 0 |
PerspectiveVertical | 0 |
PostCropVignetteAmount | 0 |
ProcessVersion | 6.7 |
ProfileDescription | sRGB IEC61966-2.1 |
RecommendedExposureIndex | 2000 |
RedHue | 0 |
RedSaturation | 0 |
Rights | Geir Manshaus |
Saturation | 0 |
SaturationAdjustmentAqua | 0 |
SaturationAdjustmentBlue | 0 |
SaturationAdjustmentGreen | 0 |
SaturationAdjustmentMagenta | 0 |
SaturationAdjustmentOrange | 0 |
SaturationAdjustmentPurple | 0 |
SaturationAdjustmentRed | 0 |
SaturationAdjustmentYellow | 0 |
ScaleFactor35efl | 4.8 |
SceneCaptureType | Standard |
SensitivityType | Recommended Exposure Index |
SerialNumber | 053024009161 |
Shadows2012 | -22 |
ShadowTint | 0 |
SharpenDetail | 25 |
SharpenEdgeMasking | 0 |
SharpenRadius | +1.0 |
Sharpness | 61 |
ShutterSpeed | 1/3200 |
ShutterSpeedValue | 1/3200 |
Software | Adobe Photoshop Lightroom 5.7 (Windows) |
SplitToningBalance | 0 |
SplitToningHighlightHue | 0 |
SplitToningHighlightSaturation | 0 |
SplitToningShadowHue | 0 |
SplitToningShadowSaturation | 0 |
Subject | Østensjø 5d3 |
Tint | +23 |
ToneCurve | 0, 0, 255, 255 |
ToneCurveBlue | 0, 0, 255, 255 |
ToneCurveGreen | 0, 0, 255, 255 |
ToneCurveName | Linear |
ToneCurveName2012 | Linear |
ToneCurvePV2012 | 0, 0, 255, 255 |
ToneCurvePV2012Blue | 0, 0, 255, 255 |
ToneCurvePV2012Green | 0, 0, 255, 255 |
ToneCurvePV2012Red | 0, 0, 255, 255 |
ToneCurveRed | 0, 0, 255, 255 |
Version | 8.7 |
Vibrance | 0 |
VignetteAmount | 0 |
WhiteBalance (1) | As Shot |
WhiteBalance | Auto |
Whites2012 | +9 |