Felt | Verdi |
AlreadyApplied | True |
Aperture | 9.0 |
ApertureValue | 9.0 |
ApproximateFocusDistance | 2 |
BitsPerSample | 8 |
BlueHue | 0 |
BlueSaturation | 0 |
Brightness | +50 |
CameraProfile | Adobe Standard |
CFAPattern | [Red,Green][Green,Blue] |
ChromaticAberrationB | 0 |
ChromaticAberrationR | 0 |
CircleOfConfusion | 0.030 mm |
Clarity | +48 |
ColorComponents | 3 |
ColorNoiseReduction | 25 |
ColorNoiseReductionDetail | 50 |
ColorTemperature | 5650 |
ColorTransform | YCbCr |
Contrast (1) | +76 |
Contrast | Normal |
ConvertToGrayscale | False |
CreateDate (1) | 2014:10:18 08:55:54.49 |
CreateDate | 2014:10:18 08:55:54 |
CreatorTool | Adobe Photoshop Camera Raw 6.6 (Windows) |
CustomRendered | Normal |
DateCreated (1) | 2014:10:18 |
DateCreated | 2014:10:18 08:55:54.49 |
DateTimeOriginal | 2014:10:18 08:55:54 |
Defringe | 0 |
DigitalZoomRatio | 1 |
DOF | 5.06 m (1.19 - 6.25 m) |
Exposure | 0.00 |
ExposureCompensation | 0 |
ExposureMode | Auto |
ExposureProgram | Aperture-priority AE |
ExposureTime | 1/20 |
FillLight | 10 |
Flash | No Flash |
FNumber | 9.0 |
FocalLength | 28.0 mm |
FocalLength35efl | 28.0 mm (35 mm equivalent: 28.0 mm) |
FocalLengthIn35mmFormat | 28 mm |
Format | image/jpeg |
FOV | 65.5 deg |
GainControl | None |
GrainAmount | 0 |
GreenHue | 0 |
GreenSaturation | 0 |
HasCrop | False |
HasSettings | True |
HighlightRecovery | 0 |
HueAdjustmentAqua | 0 |
HueAdjustmentBlue | 0 |
HueAdjustmentGreen | 0 |
HueAdjustmentMagenta | 0 |
HueAdjustmentOrange | 0 |
HueAdjustmentPurple | 0 |
HueAdjustmentRed | 0 |
HueAdjustmentYellow | 0 |
HyperfocalDistance | 2.90 m |
ImageHeight | 2832 |
ImageNumber | 30068 |
ImageSize | 4256x2832 |
ImageWidth | 4256 |
ISO | 200 |
Lens | 16.0-35.0 mm f/4.0 |
LensID (1) | 163 |
LensID | AF-S Nikkor 16-35mm f/4G ED VR |
LensInfo | 16-35mm f/4 |
LensManualDistortionAmount | 0 |
LensModel | 16.0-35.0 mm f/4.0 |
LensProfileEnable | 0 |
LensProfileSetup | LensDefaults |
LightSource | Unknown |
LightValue | 9.7 |
LuminanceAdjustmentAqua | 0 |
LuminanceAdjustmentBlue | 0 |
LuminanceAdjustmentGreen | 0 |
LuminanceAdjustmentMagenta | 0 |
LuminanceAdjustmentOrange | 0 |
LuminanceAdjustmentPurple | 0 |
LuminanceAdjustmentRed | 0 |
LuminanceAdjustmentYellow | 0 |
LuminanceSmoothing | 0 |
Make | NIKON CORPORATION |
MaxApertureValue | 4.0 |
Megapixels | 12.1 |
MeteringMode | Multi-segment |
Model | NIKON D3S |
ModifyDate (1) | 2014:10:18 16:32:23+02:00 |
ModifyDate | 2014:10:18 16:32:23 |
ParametricDarks | -7 |
ParametricHighlights | +6 |
ParametricHighlightSplit | 75 |
ParametricLights | 0 |
ParametricMidtoneSplit | 50 |
ParametricShadows | +1 |
ParametricShadowSplit | 25 |
PerspectiveHorizontal | 0 |
PerspectiveRotate | 0.0 |
PerspectiveScale | 100 |
PerspectiveVertical | 0 |
PostCropVignetteAmount | 0 |
ProcessVersion | 5.7 |
ProfileDescription | Adobe RGB (1998) |
RawFileName | _OHA9592.NEF |
RedHue | 0 |
RedSaturation | 0 |
Saturation (1) | +13 |
Saturation | Normal |
SaturationAdjustmentAqua | 0 |
SaturationAdjustmentBlue | 0 |
SaturationAdjustmentGreen | 0 |
SaturationAdjustmentMagenta | 0 |
SaturationAdjustmentOrange | 0 |
SaturationAdjustmentPurple | 0 |
SaturationAdjustmentRed | 0 |
SaturationAdjustmentYellow | 0 |
ScaleFactor35efl | 1.0 |
SceneCaptureType | Standard |
SceneType | Directly photographed |
SensingMethod | One-chip color area |
SerialNumber | 2054014 |
Shadows | 16 |
ShadowTint | 0 |
SharpenDetail | 73 |
SharpenEdgeMasking | 0 |
SharpenRadius | +2.5 |
Sharpness (1) | 135 |
Sharpness | Normal |
ShutterSpeed | 1/20 |
ShutterSpeedValue | 1/20 |
Software | Adobe Photoshop Camera Raw 6.6 (Windows) |
SplitToningBalance | 0 |
SplitToningHighlightHue | 0 |
SplitToningHighlightSaturation | 0 |
SplitToningShadowHue | 0 |
SplitToningShadowSaturation | 0 |
SubjectDistance | 2 m |
SubjectDistanceRange | Unknown |
Tint | +10 |
ToneCurve | 0, 0, 32, 22, 64, 56, 128, 128, 192, 196, 255, 255 |
ToneCurveName | Medium Contrast |
Version | 6.6 |
Vibrance | +67 |
VignetteAmount | 0 |
WhiteBalance (1) | As Shot |
WhiteBalance | Auto |